BEGIN:VCALENDAR
VERSION:2.0
PRODID:-//www.livingearthcentermn.org//NONSGML kigkonsult.se iCalcreator 2.
 30.10//
CALSCALE:GREGORIAN
METHOD:PUBLISH
UID:96315f6f-a987-4f9f-91f6-bd827b9ac358
X-WR-CALDESC:In partnership with Mankato Zero Waste it's time for the annua
 l Compost Pickup Event!\n\nIt's a prime time for adding compost to your ga
 rdens\, plants or lawns!!\n\nYou may fill up to two of your own containers
  of compost.\n\nFreewill donations accepted and appreciated. 
X-WR-RELCALID:a1de66a81aec88118035a4c1c16a65e0
X-WR-TIMEZONE:America/Chicago
BEGIN:VTIMEZONE
TZID:America/Chicago
BEGIN:STANDARD
TZNAME:CST
DTSTART:20251102T020000
TZOFFSETFROM:-0500
TZOFFSETTO:-0600
RDATE:20261101T020000
RDATE:20271107T020000
END:STANDARD
BEGIN:DAYLIGHT
TZNAME:CDT
DTSTART:20260308T020000
TZOFFSETFROM:-0600
TZOFFSETTO:-0500
RDATE:20270314T020000
END:DAYLIGHT
END:VTIMEZONE
BEGIN:VEVENT
UID:6e370439-3305-4517-829f-9c6e52072b9c
DTSTAMP:20260422T111124Z
DESCRIPTION:In partnership with Mankato Zero Waste it's time for the annual
  Compost Pickup Event!\n\nIt's a prime time for adding compost to your gar
 dens\, plants or lawns!!\n\nYou may fill up to two of your own containers 
 of compost.\n\nFreewill donations accepted and appreciated. 
DTSTART;TZID=America/Chicago:20260509T090000
DTEND;TZID=America/Chicago:20260509T120000
LOCATION:BEC Community Farm\, 20612 Indian Lake Rd\, Mankato\, MN 56001 US
SUMMARY:Mankato Zero Waste Compost Pick Up Day
END:VEVENT
END:VCALENDAR
