BEGIN:VCALENDAR
VERSION:2.0
PRODID:-//www.livingearthcentermn.org//NONSGML kigkonsult.se iCalcreator 2.
 30.10//
CALSCALE:GREGORIAN
METHOD:PUBLISH
UID:271b4d2a-fd88-42d9-8660-e05901856bd4
X-WR-CALDESC:You are invited to join us at the Community Farm from 5 -7 pm 
 for an evening of volunteering!  Many hands make light work\, we will be d
 oing seasonal farm maintenance tasks such as\, planting\, watering\, weedi
 ng\, harvesting\, and more!\n\n***BONUS***\nDinner provided by LEC!\n\nNo 
 experience necessary!  Everyone is Welcome!\nRegistration is not required 
 but appreciated for meal planning.
X-WR-RELCALID:5d7e89c28aac515280e452ce5728afca
X-WR-TIMEZONE:America/Chicago
BEGIN:VTIMEZONE
TZID:America/Chicago
BEGIN:STANDARD
TZNAME:CST
DTSTART:20251102T020000
TZOFFSETFROM:-0500
TZOFFSETTO:-0600
RDATE:20261101T020000
RDATE:20271107T020000
END:STANDARD
BEGIN:DAYLIGHT
TZNAME:CDT
DTSTART:20260308T020000
TZOFFSETFROM:-0600
TZOFFSETTO:-0500
RDATE:20270314T020000
RDATE:20280312T020000
END:DAYLIGHT
END:VTIMEZONE
BEGIN:VEVENT
UID:f425600a-f4d8-4d99-a306-63b535ecdd08
DTSTAMP:20260422T045246Z
DESCRIPTION:You are invited to join us at the Community Farm from 5 -7 pm f
 or an evening of volunteering!  Many hands make light work\, we will be do
 ing seasonal farm maintenance tasks such as\, planting\, watering\, weedin
 g\, harvesting\, and more!\n\n***BONUS***\nDinner provided by LEC!\n\nNo e
 xperience necessary!  Everyone is Welcome!\nRegistration is not required b
 ut appreciated for meal planning.
DTSTART;TZID=America/Chicago:20260924T170000
DTEND;TZID=America/Chicago:20260924T190000
LOCATION:BEC Community Farm\, 20612 Indian Lake Rd\, Mankato\, MN 56001 US
SUMMARY:September BEC Community Farm Volunteer Day
END:VEVENT
END:VCALENDAR
