BEGIN:VCALENDAR
VERSION:2.0
PRODID:-//www.livingearthcentermn.org//NONSGML kigkonsult.se iCalcreator 2.
 30.10//
CALSCALE:GREGORIAN
METHOD:PUBLISH
UID:f7650bcc-ddef-416c-8ecf-bf5cbcb8917c
X-WR-CALDESC:You are invited to join us at the Community Farm from 5 -7 pm 
 for an evening of volunteering!  Many hands make light work\, we will be d
 oing seasonal farm maintenance tasks such as\, planting\, watering\, weedi
 ng\, harvesting\, and more!\n\n***BONUS***\nDinner provided by LEC!\n\nNo 
 experience necessary!  Everyone is Welcome!\nRegistration is not required 
 but appreciated for meal planning.
X-WR-RELCALID:523fefe5f5d7731a5327f0eab52e971b
X-WR-TIMEZONE:America/Chicago
BEGIN:VTIMEZONE
TZID:America/Chicago
BEGIN:STANDARD
TZNAME:CST
DTSTART:20251102T020000
TZOFFSETFROM:-0500
TZOFFSETTO:-0600
RDATE:20261101T020000
RDATE:20271107T020000
END:STANDARD
BEGIN:DAYLIGHT
TZNAME:CDT
DTSTART:20260308T020000
TZOFFSETFROM:-0600
TZOFFSETTO:-0500
RDATE:20270314T020000
END:DAYLIGHT
END:VTIMEZONE
BEGIN:VEVENT
UID:1f844784-5476-4e48-a23a-475e01e1c4ec
DTSTAMP:20260422T011214Z
DESCRIPTION:You are invited to join us at the Community Farm from 5 -7 pm f
 or an evening of volunteering!  Many hands make light work\, we will be do
 ing seasonal farm maintenance tasks such as\, planting\, watering\, weedin
 g\, harvesting\, and more!\n\n***BONUS***\nDinner provided by LEC!\n\nNo e
 xperience necessary!  Everyone is Welcome!\nRegistration is not required b
 ut appreciated for meal planning.
DTSTART;TZID=America/Chicago:20260730T170000
DTEND;TZID=America/Chicago:20260730T190000
LOCATION:BEC Community Farm\, 20612 Indian Lake Rd\, Mankato\, MN 56001 US
SUMMARY:July BEC Community Farm Volunteer Day
END:VEVENT
END:VCALENDAR
