BEGIN:VCALENDAR
VERSION:2.0
PRODID:-//www.livingearthcentermn.org//NONSGML kigkonsult.se iCalcreator 2.
 30.10//
CALSCALE:GREGORIAN
METHOD:PUBLISH
UID:2ac2ba9b-0d77-43e1-9105-174079ffc905
X-WR-CALDESC:Are you feeling blue about the winter and cold? \n\nCome help 
 Living Earth Center with some fun winter-time gardening related activities
 ! \n\nNo experience necessary!\n\nCora and Sky spent time this fall collec
 ting flower heads and seed pods and we have a lot to clean and prepare for
  planting! \nWe are also looking to meet the needs of the community by try
 ing out some winter growing in the LEC basement grow room and could use so
 me help with that!
X-WR-RELCALID:4cfd172fa4e7127b63675b441bddd951
X-WR-TIMEZONE:America/Chicago
BEGIN:VTIMEZONE
TZID:America/Chicago
BEGIN:STANDARD
TZNAME:CST
DTSTART:20251102T020000
TZOFFSETFROM:-0500
TZOFFSETTO:-0600
RDATE:20261101T020000
END:STANDARD
BEGIN:DAYLIGHT
TZNAME:CDT
DTSTART:20260308T020000
TZOFFSETFROM:-0600
TZOFFSETTO:-0500
RDATE:20270314T020000
END:DAYLIGHT
END:VTIMEZONE
BEGIN:VEVENT
UID:5c5a7ce2-2218-4d59-bbed-cd4587a049d0
DTSTAMP:20260421T215240Z
DESCRIPTION:Are you feeling blue about the winter and cold? \n\nCome help L
 iving Earth Center with some fun winter-time gardening related activities!
  \n\nNo experience necessary!\n\nCora and Sky spent time this fall collect
 ing flower heads and seed pods and we have a lot to clean and prepare for 
 planting! \nWe are also looking to meet the needs of the community by tryi
 ng out some winter growing in the LEC basement grow room and could use som
 e help with that!
DTSTART;TZID=America/Chicago:20260314T130000
DTEND;TZID=America/Chicago:20260314T140000
LOCATION:Living Earth Center Office\, 1603 N Riverfront Dr\, Mankato\, MN 5
 6001 US
SUMMARY:Winter Volunteer Day
END:VEVENT
END:VCALENDAR
