BEGIN:VCALENDAR
VERSION:2.0
PRODID:-//www.livingearthcentermn.org//NONSGML kigkonsult.se iCalcreator 2.
 30.10//
CALSCALE:GREGORIAN
METHOD:PUBLISH
UID:8455c324-9992-4f1c-86c5-e60a94d2e457
X-WR-CALDESC:Join us in celebrating the shortest day of the year and welcom
 e the return of the light at our annual Winter Solstice Celebration.  Enjo
 y an (optional) educational guided snowshoe hike\, big bonfires\, warm ref
 reshments\, and a community reflection. \nAs we get busy for the holiday s
 eason\, it is good to take a moment to slow down\, reflect on our year\, a
 nd remember to spend time outside regardless of the chilly weather.\n\nBri
 ng your family and friends and enjoy an evening of warmth\, reflection and
  fun!\n\nEvening Schedule\n6:00pm-6:30pm Guided snowshoe hike around Good 
 Counsel. At the same time\, warm refreshments will be served and fires wil
 l be going if you prefer to stay warm and socialize.\n\n6:30pm-7:00pm Comm
 unity reflection and story readings around the fire\n\n7:00-7:30 Community
  bonfire\n\nPlan to join us as we celebrate the darkness and prepare to we
 lcome back the light.\n\nEvent is free to all\, with donations gratefully 
 accepted.\n\nPre-registration is requested but not required.\n\nFree parki
 ng available in the Loyola Parking lot across from the Red Barn
X-WR-RELCALID:6698c84362cb9a6ffc8ce1cd702aa3a5
X-WR-TIMEZONE:America/Chicago
BEGIN:VTIMEZONE
TZID:America/Chicago
BEGIN:STANDARD
TZNAME:CST
DTSTART:20251102T020000
TZOFFSETFROM:-0500
TZOFFSETTO:-0600
RDATE:20261101T020000
END:STANDARD
BEGIN:DAYLIGHT
TZNAME:CDT
DTSTART:20250309T020000
TZOFFSETFROM:-0600
TZOFFSETTO:-0500
RDATE:20260308T020000
RDATE:20270314T020000
END:DAYLIGHT
END:VTIMEZONE
BEGIN:VEVENT
UID:b650e97d-3b79-4149-84d4-686a0946a89e
DTSTAMP:20260422T025305Z
DESCRIPTION:Join us in celebrating the shortest day of the year and welcome
  the return of the light at our annual Winter Solstice Celebration.  Enjoy
  an (optional) educational guided snowshoe hike\, big bonfires\, warm refr
 eshments\, and a community reflection. \nAs we get busy for the holiday se
 ason\, it is good to take a moment to slow down\, reflect on our year\, an
 d remember to spend time outside regardless of the chilly weather.\n\nBrin
 g your family and friends and enjoy an evening of warmth\, reflection and 
 fun!\n\nEvening Schedule\n6:00pm-6:30pm Guided snowshoe hike around Good C
 ounsel. At the same time\, warm refreshments will be served and fires will
  be going if you prefer to stay warm and socialize.\n\n6:30pm-7:00pm Commu
 nity reflection and story readings around the fire\n\n7:00-7:30 Community 
 bonfire\n\nPlan to join us as we celebrate the darkness and prepare to wel
 come back the light.\n\nEvent is free to all\, with donations gratefully a
 ccepted.\n\nPre-registration is requested but not required.\n\nFree parkin
 g available in the Loyola Parking lot across from the Red Barn
DTSTART;TZID=America/Chicago:20251221T180000
DTEND;TZID=America/Chicago:20251221T193000
LOCATION:LEC Community Gardens\, 170 Good Counsel Dr\, Mankato\, MN 56001 U
 S
SUMMARY:Winter Solstice Celebration
END:VEVENT
END:VCALENDAR
