BEGIN:VCALENDAR
VERSION:2.0
PRODID:-//www.livingearthcentermn.org//NONSGML kigkonsult.se iCalcreator 2.
 30.10//
CALSCALE:GREGORIAN
METHOD:PUBLISH
UID:d1d2fecf-e0c9-4f79-b64f-556f3f9065f7
X-WR-CALDESC:Are you feeling blue about the winter and cold? \n\nCome help 
 Living Earth Center with some fun winter-time gardening related activities
 ! \n\nNo experience necessary!\n\nThis month's focus will be making orange
  slice ornaments for our Winter Solstice Celebration.\n\nCora and Sky spen
 t time this fall collecting flower heads and seed pods and we have a lot t
 o clean and prepare for planting! \nWe are also looking to meet the needs 
 of the community by trying out some winter growing in the LEC basement gro
 w room and could use some help with that!
X-WR-RELCALID:e82a909132ea45a1e651606d8ce8d42b
X-WR-TIMEZONE:America/Chicago
BEGIN:VTIMEZONE
TZID:America/Chicago
BEGIN:STANDARD
TZNAME:CST
DTSTART:20251102T020000
TZOFFSETFROM:-0500
TZOFFSETTO:-0600
RDATE:20261101T020000
END:STANDARD
BEGIN:DAYLIGHT
TZNAME:CDT
DTSTART:20250309T020000
TZOFFSETFROM:-0600
TZOFFSETTO:-0500
RDATE:20260308T020000
RDATE:20270314T020000
END:DAYLIGHT
END:VTIMEZONE
BEGIN:VEVENT
UID:0fe9ffa2-2b9f-4dfc-928f-5132876a4e79
DTSTAMP:20260422T024559Z
DESCRIPTION:Are you feeling blue about the winter and cold? \n\nCome help L
 iving Earth Center with some fun winter-time gardening related activities!
  \n\nNo experience necessary!\n\nThis month's focus will be making orange 
 slice ornaments for our Winter Solstice Celebration.\n\nCora and Sky spent
  time this fall collecting flower heads and seed pods and we have a lot to
  clean and prepare for planting! \nWe are also looking to meet the needs o
 f the community by trying out some winter growing in the LEC basement grow
  room and could use some help with that!
DTSTART;TZID=America/Chicago:20251220T130000
DTEND;TZID=America/Chicago:20251220T140000
LOCATION:Living Earth Center Office\, 1603 N Riverfront Dr\, Mankato\, MN 5
 6001 US
SUMMARY:Winter Volunteer Day
END:VEVENT
END:VCALENDAR
