BEGIN:VCALENDAR
VERSION:2.0
PRODID:-//www.livingearthcentermn.org//NONSGML kigkonsult.se iCalcreator 2.
 30.10//
CALSCALE:GREGORIAN
METHOD:PUBLISH
UID:1853db9c-0889-4b6b-8dc5-76faf584b995
X-WR-CALDESC:Help support the Dakota Reconciliation Riders and Runners by h
 elping Living Earth Center make fresh apple cider!\n\nJoin us for an eveni
 ng of fun\, learning\, connection\, and supporting our Dakota neighbors. P
 articipants will take home canning resources and a jar of cider.\n\nPartic
 ipate in a hands-on workshop where Living Earth Center will teach you how 
 to process and can fresh apple cider so you can gain the skills to start c
 anning in your own kitchen\, while also learning about the history and mea
 ning behind the reconciliation efforts that take place annually on Decembe
 r 26th. All the cider made will be donated to feed Dakota riders and runne
 rs after their arduous winter journey as they participate in an intentiona
 l ceremony of reconciliation. \n\nSpace is limited - sign up today via lin
 k below\n\nThis event is supported through a partnership with Welsh Herita
 ge Farms\, who have graciously donated 300 lbs of apples\, Centenary Churc
 h/Holy Grounds\, Living Earth Center\, St. Peter Good Neighbor Diversity C
 ouncil\, and the Mahkato Welcoming Committee.\n\nPlease Note:\n\nAll volun
 teer slots are already full!  If you wanted to help out this year and were
  unable to register\, know that we appreciate you and that next year we wi
 ll organize this event in a different way that will allow for more partici
 pating volunteers. ❤️\n\nIf you would like to learn more about the ride\, 
 visit their facebook page: Makatoh Reconciliation and Healing Horse Ride o
 r the ride's website: https://reconciliationride.com/2025-ride\n\nDonation
 s can be made to the Ride via the group's Go Fund Me Page:\n\nhttps://gofu
 nd.me/082fea228\n\n
X-WR-RELCALID:56350d3df4999c2de70d611f0db3bd5b
X-WR-TIMEZONE:America/Chicago
BEGIN:VTIMEZONE
TZID:America/Chicago
BEGIN:STANDARD
TZNAME:CST
DTSTART:20251102T020000
TZOFFSETFROM:-0500
TZOFFSETTO:-0600
RDATE:20261101T020000
END:STANDARD
BEGIN:DAYLIGHT
TZNAME:CDT
DTSTART:20250309T020000
TZOFFSETFROM:-0600
TZOFFSETTO:-0500
RDATE:20260308T020000
RDATE:20270314T020000
END:DAYLIGHT
END:VTIMEZONE
BEGIN:VEVENT
UID:9b389ad2-8f6d-4876-b547-1da58c710893
DTSTAMP:20260422T024518Z
DESCRIPTION:Help support the Dakota Reconciliation Riders and Runners by he
 lping Living Earth Center make fresh apple cider!\n\nJoin us for an evenin
 g of fun\, learning\, connection\, and supporting our Dakota neighbors. Pa
 rticipants will take home canning resources and a jar of cider.\n\nPartici
 pate in a hands-on workshop where Living Earth Center will teach you how t
 o process and can fresh apple cider so you can gain the skills to start ca
 nning in your own kitchen\, while also learning about the history and mean
 ing behind the reconciliation efforts that take place annually on December
  26th. All the cider made will be donated to feed Dakota riders and runner
 s after their arduous winter journey as they participate in an intentional
  ceremony of reconciliation. \n\nSpace is limited - sign up today via link
  below\n\nThis event is supported through a partnership with Welsh Heritag
 e Farms\, who have graciously donated 300 lbs of apples\, Centenary Church
 /Holy Grounds\, Living Earth Center\, St. Peter Good Neighbor Diversity Co
 uncil\, and the Mahkato Welcoming Committee.\n\nPlease Note:\n\nAll volunt
 eer slots are already full!  If you wanted to help out this year and were 
 unable to register\, know that we appreciate you and that next year we wil
 l organize this event in a different way that will allow for more particip
 ating volunteers. ❤️\n\nIf you would like to learn more about the ride\, v
 isit their facebook page: Makatoh Reconciliation and Healing Horse Ride or
  the ride's website: https://reconciliationride.com/2025-ride\n\nDonations
  can be made to the Ride via the group's Go Fund Me Page:\n\nhttps://gofun
 d.me/082fea228\n\n
DTSTART;TZID=America/Chicago:20251214T143000
DTEND;TZID=America/Chicago:20251214T183000
LOCATION:Centenary United Methodist Church/Holy Grounds\, 501 S 2nd St\, Ma
 nkato\, MN 56001 US
SUMMARY:Volunteer Day: Making Cider for Reconciliation Riders and Runners
END:VEVENT
END:VCALENDAR
