BEGIN:VCALENDAR
VERSION:2.0
PRODID:-//www.livingearthcentermn.org//NONSGML kigkonsult.se iCalcreator 2.
 30.10//
CALSCALE:GREGORIAN
METHOD:PUBLISH
UID:7b3043a1-727a-432e-8b2b-0c090a3e2250
X-WR-CALDESC:For 20 years\, the Earth Conference has brought people togethe
 r to exchange ideas\, inspire action\, and build relationships rooted in c
 onservation\, community well-being\, and Earth stewardship in the Mankato 
 area.\n\nAs our world grows more uncertain and injustice threatens the fou
 ndations of the communities we love\, the need for unity and collaboration
  has never been more urgent. We believe that true strength lies in coming 
 together\, across sectors\, disciplines\, and lived experiences\, to shape
  a resilient\, caring future for Mankato.\n\nThat’s why\, at this year’s 2
 0th Earth Conference\, we’re taking a bold next step: laying the foundatio
 n for a Mankato Area Earth Coalition. A new\, locally rooted alliance of i
 ndividuals and organizations committed to a healthy planet and a healthy c
 ommunity.\n\nThis coalition is being designed to facilitate powerful syner
 gy to the great work already being done by local groups\, amplifying missi
 ons\, aligning strategies\, and creating a shared movement for lasting\, s
 ystemic change in our region.\n\nAt the conference\, we’ll work together t
 o co-create the coalition’s structure\, guiding principles\, communication
  approaches\, and a roadmap for what comes next\, so the momentum we build
  together continues long after the event ends.\n\nIf you or your organizat
 ion is ready to connect\, collaborate\, and co-create a stronger\, more ju
 st Mankato\, we invite you to take your seat at the table. Join us at the 
 Earth Conference\, and help shape a future that cares for all.\n\nConferen
 ce Schedule:\n8:30am - Check-In\, Coffee & Muffins\n8:45am - Welcome & Ope
 ning Reflection\n9:00am - Coalition Framing & Conversations\n11:50am - Lun
 ch\n12:45pm - Open Space Discussions\n2:45pm - Next Steps & Commitments\n3
 :20pm - Wrap Up\n\nTickets: $50 pre-registration/$60 at the door\nStudent 
 Tickets: $15 \n(student scholarships are available\, email info@livingeart
 hcentermn.org for scholarship info)
X-WR-RELCALID:a94e654ccc711432624e0c9264d4ad10
X-WR-TIMEZONE:America/Chicago
BEGIN:VTIMEZONE
TZID:America/Chicago
BEGIN:STANDARD
TZNAME:CST
DTSTART:20241103T020000
TZOFFSETFROM:-0500
TZOFFSETTO:-0600
RDATE:20251102T020000
RDATE:20261101T020000
END:STANDARD
BEGIN:DAYLIGHT
TZNAME:CDT
DTSTART:20250309T020000
TZOFFSETFROM:-0600
TZOFFSETTO:-0500
RDATE:20260308T020000
RDATE:20270314T020000
END:DAYLIGHT
END:VTIMEZONE
BEGIN:VEVENT
UID:612ca1c6-36d7-4a87-8fe1-ffdc8822b521
DTSTAMP:20260422T044630Z
DESCRIPTION:For 20 years\, the Earth Conference has brought people together
  to exchange ideas\, inspire action\, and build relationships rooted in co
 nservation\, community well-being\, and Earth stewardship in the Mankato a
 rea.\n\nAs our world grows more uncertain and injustice threatens the foun
 dations of the communities we love\, the need for unity and collaboration 
 has never been more urgent. We believe that true strength lies in coming t
 ogether\, across sectors\, disciplines\, and lived experiences\, to shape 
 a resilient\, caring future for Mankato.\n\nThat’s why\, at this year’s 20
 th Earth Conference\, we’re taking a bold next step: laying the foundation
  for a Mankato Area Earth Coalition. A new\, locally rooted alliance of in
 dividuals and organizations committed to a healthy planet and a healthy co
 mmunity.\n\nThis coalition is being designed to facilitate powerful synerg
 y to the great work already being done by local groups\, amplifying missio
 ns\, aligning strategies\, and creating a shared movement for lasting\, sy
 stemic change in our region.\n\nAt the conference\, we’ll work together to
  co-create the coalition’s structure\, guiding principles\, communication 
 approaches\, and a roadmap for what comes next\, so the momentum we build 
 together continues long after the event ends.\n\nIf you or your organizati
 on is ready to connect\, collaborate\, and co-create a stronger\, more jus
 t Mankato\, we invite you to take your seat at the table. Join us at the E
 arth Conference\, and help shape a future that cares for all.\n\nConferenc
 e Schedule:\n8:30am - Check-In\, Coffee & Muffins\n8:45am - Welcome & Open
 ing Reflection\n9:00am - Coalition Framing & Conversations\n11:50am - Lunc
 h\n12:45pm - Open Space Discussions\n2:45pm - Next Steps & Commitments\n3:
 20pm - Wrap Up\n\nTickets: $50 pre-registration/$60 at the door\nStudent T
 ickets: $15 \n(student scholarships are available\, email info@livingearth
 centermn.org for scholarship info)
DTSTART;TZID=America/Chicago:20251101T083000
DTEND;TZID=America/Chicago:20251101T153000
LOCATION:MNSU Centennial Union - Room 245\, 620 West\, S Rd\, Mankato\, MN 
 56001\, Mankato\, AL 56001 US
SUMMARY:20th Annual Earth Conference
END:VEVENT
END:VCALENDAR
