BEGIN:VCALENDAR
VERSION:2.0
PRODID:-//www.livingearthcentermn.org//NONSGML kigkonsult.se iCalcreator 2.
 30.10//
CALSCALE:GREGORIAN
METHOD:PUBLISH
UID:71d88fa7-932b-483d-b9ee-ed1faab8f526
X-WR-CALDESC:Join us at the Blue Earth County Community Farm for our annual
  celebration of the end of the harvest season and welcome the arrival of f
 all! \nWe will have the cider press out and will be making fresh apple cid
 er! Enjoy some on the spot and bring a container to take some home for lat
 er.\n\nThe afternoon will also feature tours of the Community Farm\, fall-
 themed crafts\, yard games\, snacks\, and more! \n\nEveryone is welcome!! 
  \nBring the whole family for an afternoon of fun!\n\nEvent is FREE\, with
  free-will donations to Living Earth Center gratefully accepted.\n\nPrereg
 istration is not required but is appreciated. \n
X-WR-RELCALID:79e03c9fea4af9a0606a4d4f612831a5
X-WR-TIMEZONE:America/Chicago
BEGIN:VTIMEZONE
TZID:America/Chicago
BEGIN:STANDARD
TZNAME:CST
DTSTART:20241103T020000
TZOFFSETFROM:-0500
TZOFFSETTO:-0600
RDATE:20251102T020000
RDATE:20261101T020000
END:STANDARD
BEGIN:DAYLIGHT
TZNAME:CDT
DTSTART:20250309T020000
TZOFFSETFROM:-0600
TZOFFSETTO:-0500
RDATE:20260308T020000
RDATE:20270314T020000
END:DAYLIGHT
END:VTIMEZONE
BEGIN:VEVENT
UID:eac7bbb0-2f25-4fb9-b675-bc431e0cec3a
DTSTAMP:20260422T063515Z
DESCRIPTION:Join us at the Blue Earth County Community Farm for our annual 
 celebration of the end of the harvest season and welcome the arrival of fa
 ll! \nWe will have the cider press out and will be making fresh apple cide
 r! Enjoy some on the spot and bring a container to take some home for late
 r.\n\nThe afternoon will also feature tours of the Community Farm\, fall-t
 hemed crafts\, yard games\, snacks\, and more! \n\nEveryone is welcome!!  
 \nBring the whole family for an afternoon of fun!\n\nEvent is FREE\, with 
 free-will donations to Living Earth Center gratefully accepted.\n\nPreregi
 stration is not required but is appreciated. \n
DTSTART;TZID=America/Chicago:20251011T130000
DTEND;TZID=America/Chicago:20251011T160000
LOCATION:Blue Earth County Community Farm\, 20612 Indian Lake Rd\, Mankato\
 , MN 56001 US
SUMMARY:Fall Farm Fest
END:VEVENT
END:VCALENDAR
