BEGIN:VCALENDAR
VERSION:2.0
PRODID:-//www.livingearthcentermn.org//NONSGML kigkonsult.se iCalcreator 2.
 30.10//
CALSCALE:GREGORIAN
METHOD:PUBLISH
UID:f50307aa-e2ad-494a-89e8-78439d9344f1
X-WR-CALDESC:You are invited to join us at the Community Farm for an evenin
 g of volunteering!\nMany hands make light work\, we will be weeding\, turn
 ing compost and doing general farm maintenance tasks with...\n\n***BONUS**
 *\nDinner provided by LEC!\n\nThe Community Farm is home to our Produce Do
 nation Program\, all food grown is donated to local community partners suc
 h as ECHO Food Shelf\, MY Place\, and the St Peter Food Shelf.\n\nYou will
  be making a difference and helping to feed YOUR community.\n\nRegistratio
 n is not required but appreciated for meal planning.\n
X-WR-RELCALID:f60ae33eb1db420df61d3186ba71b161
X-WR-TIMEZONE:America/Chicago
BEGIN:VTIMEZONE
TZID:America/Chicago
BEGIN:STANDARD
TZNAME:CST
DTSTART:20241103T020000
TZOFFSETFROM:-0500
TZOFFSETTO:-0600
RDATE:20251102T020000
RDATE:20261101T020000
END:STANDARD
BEGIN:DAYLIGHT
TZNAME:CDT
DTSTART:20250309T020000
TZOFFSETFROM:-0600
TZOFFSETTO:-0500
RDATE:20260308T020000
RDATE:20270314T020000
END:DAYLIGHT
END:VTIMEZONE
BEGIN:VEVENT
UID:02cbdabf-afb0-432d-8bfa-1d3c06cdcd7e
DTSTAMP:20260422T064243Z
DESCRIPTION:You are invited to join us at the Community Farm for an evening
  of volunteering!\nMany hands make light work\, we will be weeding\, turni
 ng compost and doing general farm maintenance tasks with...\n\n***BONUS***
 \nDinner provided by LEC!\n\nThe Community Farm is home to our Produce Don
 ation Program\, all food grown is donated to local community partners such
  as ECHO Food Shelf\, MY Place\, and the St Peter Food Shelf.\n\nYou will 
 be making a difference and helping to feed YOUR community.\n\nRegistration
  is not required but appreciated for meal planning.\n
DTSTART;TZID=America/Chicago:20251009T170000
DTEND;TZID=America/Chicago:20251009T190000
LOCATION:Blue Earth County Community Farm\, 20612 Indian Lake Rd\, Mankato\
 , MN 56001 US
SUMMARY:October Community Volunteer Day at the Farm
END:VEVENT
END:VCALENDAR
