BEGIN:VCALENDAR
VERSION:2.0
PRODID:-//www.livingearthcentermn.org//NONSGML kigkonsult.se iCalcreator 2.
 30.10//
CALSCALE:GREGORIAN
METHOD:PUBLISH
UID:dd447dba-8f54-4be7-8521-e710bafb3bb3
X-WR-CALDESC:Come help the Living Earth Center harvest apples for the Schoo
 l Sisters of Notre Dame at their Good Counsel Orchard.\nEveryone Welcome ~
  All Ages ~ Family Friendly\nAll Supplies Provided\n\nRegistration is REQU
 IRED to participate.  Please sign up via link below.\n\nPLEASE NOTE: These
  events are NOT for personal apple picking. \n All apples will be donated 
 to the School Sisters\, Living Earth Center’s Fall Fest\, and for local fo
 od security programs. \nThe Good Counsel Orchards are private property and
  volunteers are welcome ONLY at times listed above.
X-WR-RELCALID:4eaac9c9e6a721e6c93b45f3d70f6d9e
X-WR-TIMEZONE:America/Chicago
BEGIN:VTIMEZONE
TZID:America/Chicago
BEGIN:STANDARD
TZNAME:CST
DTSTART:20241103T020000
TZOFFSETFROM:-0500
TZOFFSETTO:-0600
RDATE:20251102T020000
RDATE:20261101T020000
END:STANDARD
BEGIN:DAYLIGHT
TZNAME:CDT
DTSTART:20250309T020000
TZOFFSETFROM:-0600
TZOFFSETTO:-0500
RDATE:20260308T020000
RDATE:20270314T020000
END:DAYLIGHT
END:VTIMEZONE
BEGIN:VEVENT
UID:caa0c055-42b3-4134-8518-140dfbabdf79
DTSTAMP:20260422T081759Z
DESCRIPTION:Come help the Living Earth Center harvest apples for the School
  Sisters of Notre Dame at their Good Counsel Orchard.\nEveryone Welcome ~ 
 All Ages ~ Family Friendly\nAll Supplies Provided\n\nRegistration is REQUI
 RED to participate.  Please sign up via link below.\n\nPLEASE NOTE: These 
 events are NOT for personal apple picking. \n All apples will be donated t
 o the School Sisters\, Living Earth Center’s Fall Fest\, and for local foo
 d security programs. \nThe Good Counsel Orchards are private property and 
 volunteers are welcome ONLY at times listed above.
DTSTART;TZID=America/Chicago:20250913T100000
DTEND;TZID=America/Chicago:20250913T120000
LOCATION:Good Counsel Orchard\, 170 Good Counsel Dr\, Mankato\, MN 56001 US
SUMMARY:Apple Picking Volunteer Opportunity
END:VEVENT
END:VCALENDAR
