BEGIN:VCALENDAR
VERSION:2.0
PRODID:-//www.livingearthcentermn.org//NONSGML kigkonsult.se iCalcreator 2.
 30.10//
CALSCALE:GREGORIAN
METHOD:PUBLISH
UID:9e4646bb-23e2-4b1b-927a-04c690523c48
X-WR-CALDESC:Too many tomatoes?!?  Want to preserve your pickles?!?\n\nJoin
  LEC Farm Manager and owner of Wiimąnį Homestead SkyAnne Walker to learn h
 ow to preserve your garden harvest by canning.\n \nLearn the basics\, from
  what equipment you'll need to the importance of food safety.\n\nWant to c
 an but don't have the equipment?  LEC has you covered!  We have all sorts 
 of canning equipment available for checkout from our lending library for f
 ree!  \n\nClass Size is limited\, so register today!\n\nClass is offered o
 n our tiered pricing scale:\n\n$45 - Benefactor: purchase your ticket and 
 sponsor 2 scholarship tickets\n$22 - Sustainer: purchase your ticket and s
 ponsor a reduced/student ticket\n$15 - General Admission: base class price
 \n$7 - Reduced/Student Admission: reduced pricing for students and attende
 es needing a reduced rate\n\nTo request a scholarship ticket please email 
 info@livingearthcentermn.org
X-WR-RELCALID:103f8849c7a59b4ffa6e7a5f2ef95278
X-WR-TIMEZONE:America/Chicago
BEGIN:VTIMEZONE
TZID:America/Chicago
BEGIN:STANDARD
TZNAME:CST
DTSTART:20241103T020000
TZOFFSETFROM:-0500
TZOFFSETTO:-0600
RDATE:20251102T020000
RDATE:20261101T020000
END:STANDARD
BEGIN:DAYLIGHT
TZNAME:CDT
DTSTART:20250309T020000
TZOFFSETFROM:-0600
TZOFFSETTO:-0500
RDATE:20260308T020000
END:DAYLIGHT
END:VTIMEZONE
BEGIN:VEVENT
UID:2459a018-dcc7-445d-b1d3-1f3a6e14eb17
DTSTAMP:20260422T100409Z
DESCRIPTION:Too many tomatoes?!?  Want to preserve your pickles?!?\n\nJoin 
 LEC Farm Manager and owner of Wiimąnį Homestead SkyAnne Walker to learn ho
 w to preserve your garden harvest by canning.\n \nLearn the basics\, from 
 what equipment you'll need to the importance of food safety.\n\nWant to ca
 n but don't have the equipment?  LEC has you covered!  We have all sorts o
 f canning equipment available for checkout from our lending library for fr
 ee!  \n\nClass Size is limited\, so register today!\n\nClass is offered on
  our tiered pricing scale:\n\n$45 - Benefactor: purchase your ticket and s
 ponsor 2 scholarship tickets\n$22 - Sustainer: purchase your ticket and sp
 onsor a reduced/student ticket\n$15 - General Admission: base class price
 \n$7 - Reduced/Student Admission: reduced pricing for students and attende
 es needing a reduced rate\n\nTo request a scholarship ticket please email 
 info@livingearthcentermn.org
DTSTART;TZID=America/Chicago:20250830T130000
DTEND;TZID=America/Chicago:20250830T140000
LOCATION:LEC Community Gardens\, 170 Good Counsel Dr\, Mankato\, MN 56001 U
 S
SUMMARY:Canning 101 workshop
END:VEVENT
END:VCALENDAR
