BEGIN:VCALENDAR
VERSION:2.0
PRODID:-//www.livingearthcentermn.org//NONSGML kigkonsult.se iCalcreator 2.
 30.10//
CALSCALE:GREGORIAN
METHOD:PUBLISH
UID:6d5d280f-819a-4374-9fb4-c672e66fa731
X-WR-CALDESC:Support pollinators by learning how to grow native Minnesota w
 ildflowers!\n\nJoin LEC and Master Gardener Mary Walker to learn about all
  things pollinator!  \n\nFrom what to plant to attract pollinators to how\
 , and the benefits of native plants\, to how to tend your plants throughou
 t the growing season\, learn the basics to get started with your own polli
 nator garden\n\nClass Size is limited\, so register today!\n\nClass is off
 ered on our tiered pricing scale:\n\n$45 - Benefactor: purchase your ticke
 t and sponsor 2 scholarship tickets\n$22 - Sustainer: purchase your ticket
  and sponsor a reduced/student ticket\n$15 - General Admission: base class
  price\n$7 - Reduced/Student Admission: reduced pricing for students and a
 ttendees needing a reduced rate\n\nTo request a scholarship ticket please 
 email info@livingearthcentermn.org
X-WR-RELCALID:5f24c9c5b4d89360f9ae72c39780749f
X-WR-TIMEZONE:America/Chicago
BEGIN:VTIMEZONE
TZID:America/Chicago
BEGIN:STANDARD
TZNAME:CST
DTSTART:20241103T020000
TZOFFSETFROM:-0500
TZOFFSETTO:-0600
RDATE:20251102T020000
RDATE:20261101T020000
END:STANDARD
BEGIN:DAYLIGHT
TZNAME:CDT
DTSTART:20250309T020000
TZOFFSETFROM:-0600
TZOFFSETTO:-0500
RDATE:20260308T020000
END:DAYLIGHT
END:VTIMEZONE
BEGIN:VEVENT
UID:027a5dc7-705a-49d3-825e-674652f0fe44
DTSTAMP:20260422T100403Z
DESCRIPTION:Support pollinators by learning how to grow native Minnesota wi
 ldflowers!\n\nJoin LEC and Master Gardener Mary Walker to learn about all 
 things pollinator!  \n\nFrom what to plant to attract pollinators to how\,
  and the benefits of native plants\, to how to tend your plants throughout
  the growing season\, learn the basics to get started with your own pollin
 ator garden\n\nClass Size is limited\, so register today!\n\nClass is offe
 red on our tiered pricing scale:\n\n$45 - Benefactor: purchase your ticket
  and sponsor 2 scholarship tickets\n$22 - Sustainer: purchase your ticket 
 and sponsor a reduced/student ticket\n$15 - General Admission: base class 
 price\n$7 - Reduced/Student Admission: reduced pricing for students and at
 tendees needing a reduced rate\n\nTo request a scholarship ticket please e
 mail info@livingearthcentermn.org
DTSTART;TZID=America/Chicago:20250823T130000
DTEND;TZID=America/Chicago:20250823T143000
LOCATION:LEC Community Gardens\, 170 Good Counsel Dr\, Mankato\, MN 56001 U
 S
SUMMARY:Native Pollinator Garden Workshop
END:VEVENT
END:VCALENDAR
