BEGIN:VCALENDAR
VERSION:2.0
PRODID:-//www.livingearthcentermn.org//NONSGML kigkonsult.se iCalcreator 2.
 30.10//
CALSCALE:GREGORIAN
METHOD:PUBLISH
UID:75714985-5821-42d6-b8e5-caa1fa4596e6
X-WR-CALDESC:Want to learn how to preserve your garden harvest that doesn't
  involve canning? \nOr what to do with leftover purchased produce\, like w
 hen your recipe calls for 1 celery stalk but you have to buy an entire bun
 ch?\n\nDehydration is the answer! \n\nLearn the basics and  how to get sta
 rted from LEC Farm Manager and homesteader SkyAnne Walker\, who has been u
 sing dehydration at home for many years.\n\nIf you don't have access to a 
 food dehydrator\, alternative methods\, such as dehydrating in your oven\,
  will be covered.\n\nClass Size is limited\, so register today!\n\nClass i
 s offered on our tiered pricing scale:\n\n$45 - Benefactor: purchase your 
 ticket and sponsor 2 scholarship tickets\n$22 - Sustainer: purchase your t
 icket and sponsor a reduced/student ticket\n$15 - General Admission: base 
 class price\n$7 - Reduced/Student Admission: reduced pricing for students 
 and attendees needing a reduced rate\n\nTo request a scholarship ticket pl
 ease email info@livingearthcentermn.org
X-WR-RELCALID:334839ed68ddc3efc825168c86a163bc
X-WR-TIMEZONE:America/Chicago
BEGIN:VTIMEZONE
TZID:America/Chicago
BEGIN:STANDARD
TZNAME:CST
DTSTART:20241103T020000
TZOFFSETFROM:-0500
TZOFFSETTO:-0600
RDATE:20251102T020000
RDATE:20261101T020000
END:STANDARD
BEGIN:DAYLIGHT
TZNAME:CDT
DTSTART:20250309T020000
TZOFFSETFROM:-0600
TZOFFSETTO:-0500
RDATE:20260308T020000
END:DAYLIGHT
END:VTIMEZONE
BEGIN:VEVENT
UID:85dbbc0c-d7d8-4dce-8b22-ae4a65a2de95
DTSTAMP:20260422T115337Z
DESCRIPTION:Want to learn how to preserve your garden harvest that doesn't 
 involve canning? \nOr what to do with leftover purchased produce\, like wh
 en your recipe calls for 1 celery stalk but you have to buy an entire bunc
 h?\n\nDehydration is the answer! \n\nLearn the basics and  how to get star
 ted from LEC Farm Manager and homesteader SkyAnne Walker\, who has been us
 ing dehydration at home for many years.\n\nIf you don't have access to a f
 ood dehydrator\, alternative methods\, such as dehydrating in your oven\, 
 will be covered.\n\nClass Size is limited\, so register today!\n\nClass is
  offered on our tiered pricing scale:\n\n$45 - Benefactor: purchase your t
 icket and sponsor 2 scholarship tickets\n$22 - Sustainer: purchase your ti
 cket and sponsor a reduced/student ticket\n$15 - General Admission: base c
 lass price\n$7 - Reduced/Student Admission: reduced pricing for students a
 nd attendees needing a reduced rate\n\nTo request a scholarship ticket ple
 ase email info@livingearthcentermn.org
DTSTART;TZID=America/Chicago:20250726T130000
DTEND;TZID=America/Chicago:20250726T140000
LOCATION:LEC Community Garden\, 170 Good Counsel Dr\, Mankato\, MN 56001 US
SUMMARY:Vegetable Dehydration Workshop
END:VEVENT
END:VCALENDAR
