BEGIN:VCALENDAR
VERSION:2.0
PRODID:-//www.livingearthcentermn.org//NONSGML kigkonsult.se iCalcreator 2.
 30.10//
CALSCALE:GREGORIAN
METHOD:PUBLISH
UID:7faacef0-68d8-43c3-8943-e7da519eb7b0
X-WR-CALDESC:Join LEC for our annual celebration of the longest day of the 
 year! \n\nWe will observe the Summer Solstice with our annual reflection\,
  as well as with games\, activities\, and live performances! \nFeaturing -
  Live Music by Violette LeBoutiller\n*and*\nPuppet Show by local artist Ab
 bey Dickhudt!\n\nAll are welcome!  \n\nBring your friends\, a picnic\, and
  blanket or chairs and join us at the Big Red Barn for an evening of fun a
 nd celebration.\n\nEvent is FREE - with free will donations gratefully acc
 epted\n\nPre-registration is requested but not required\n\n
X-WR-RELCALID:39507fdffb44fa0542c3b36e4fa44384
X-WR-TIMEZONE:America/Chicago
BEGIN:VTIMEZONE
TZID:America/Chicago
BEGIN:STANDARD
TZNAME:CST
DTSTART:20241103T020000
TZOFFSETFROM:-0500
TZOFFSETTO:-0600
RDATE:20251102T020000
RDATE:20261101T020000
END:STANDARD
BEGIN:DAYLIGHT
TZNAME:CDT
DTSTART:20250309T020000
TZOFFSETFROM:-0600
TZOFFSETTO:-0500
RDATE:20260308T020000
END:DAYLIGHT
END:VTIMEZONE
BEGIN:VEVENT
UID:8e4f17c0-e894-4ef4-b9ec-e48b6b5a73ea
DTSTAMP:20260422T133753Z
DESCRIPTION:Join LEC for our annual celebration of the longest day of the y
 ear! \n\nWe will observe the Summer Solstice with our annual reflection\, 
 as well as with games\, activities\, and live performances! \nFeaturing - 
 Live Music by Violette LeBoutiller\n*and*\nPuppet Show by local artist Abb
 ey Dickhudt!\n\nAll are welcome!  \n\nBring your friends\, a picnic\, and 
 blanket or chairs and join us at the Big Red Barn for an evening of fun an
 d celebration.\n\nEvent is FREE - with free will donations gratefully acce
 pted\n\nPre-registration is requested but not required\n\n
DTSTART;TZID=America/Chicago:20250620T180000
DTEND;TZID=America/Chicago:20250620T200000
LOCATION:LEC Community Garden\, 170 Good Counsel Dr\, Mankato\, MN 56001 US
SUMMARY:Summer Solstice Celebration
END:VEVENT
END:VCALENDAR
