BEGIN:VCALENDAR
VERSION:2.0
PRODID:-//www.livingearthcentermn.org//NONSGML kigkonsult.se iCalcreator 2.
 30.10//
CALSCALE:GREGORIAN
METHOD:PUBLISH
UID:54b58122-5175-487e-bb23-c92d71264c8f
X-WR-CALDESC:THIS EVENT HAS BEEN CANCELED. Thank you for your interest and 
 support. \n\nWant to learn how to garden but don't have the yard space? Yo
 u can still grow food! Learn how to have a successful garden out of pots a
 nd containers\, including herbs\, vegetables and flowers. \n\nClass taught
  by Master Gardeners Mary Walker and Lucas Youngerberg\n\nClass Size is li
 mited\, so register today!\n\nClass is offered on our tiered pricing scale
 :\n\n$45 - Benefactor: purchase your ticket and sponsor 2 scholarship tick
 ets\n$22 - Sustainer: purchase your ticket and sponsor a reduced/student t
 icket\n$15 - General Admission: base class price\n$7 - Reduced/Student Adm
 ission: reduced pricing for students and attendees needing a reduced rate
 \n\nTo request a scholarship ticket please email info@livingearthcentermn.
 org
X-WR-RELCALID:7da8adea819aa1794a0265e411eb7c20
X-WR-TIMEZONE:America/Chicago
BEGIN:VTIMEZONE
TZID:America/Chicago
BEGIN:STANDARD
TZNAME:CST
DTSTART:20241103T020000
TZOFFSETFROM:-0500
TZOFFSETTO:-0600
RDATE:20251102T020000
RDATE:20261101T020000
END:STANDARD
BEGIN:DAYLIGHT
TZNAME:CDT
DTSTART:20250309T020000
TZOFFSETFROM:-0600
TZOFFSETTO:-0500
RDATE:20260308T020000
END:DAYLIGHT
END:VTIMEZONE
BEGIN:VEVENT
UID:70b4c0d9-d489-46a4-8b3a-e7a1c34075e9
DTSTAMP:20260422T133109Z
DESCRIPTION:THIS EVENT HAS BEEN CANCELED. Thank you for your interest and s
 upport. \n\nWant to learn how to garden but don't have the yard space? You
  can still grow food! Learn how to have a successful garden out of pots an
 d containers\, including herbs\, vegetables and flowers. \n\nClass taught 
 by Master Gardeners Mary Walker and Lucas Youngerberg\n\nClass Size is lim
 ited\, so register today!\n\nClass is offered on our tiered pricing scale:
 \n\n$45 - Benefactor: purchase your ticket and sponsor 2 scholarship ticke
 ts\n$22 - Sustainer: purchase your ticket and sponsor a reduced/student ti
 cket\n$15 - General Admission: base class price\n$7 - Reduced/Student Admi
 ssion: reduced pricing for students and attendees needing a reduced rate\n
 \nTo request a scholarship ticket please email info@livingearthcentermn.or
 g
DTSTART;TZID=America/Chicago:20250614T130000
DTEND;TZID=America/Chicago:20250614T143000
LOCATION:LEC Community Garden\, 170 Good Counsel Dr\, Mankato\, MN 56001 US
SUMMARY:CANCELED Container Gardening Workshop
END:VEVENT
END:VCALENDAR
