BEGIN:VCALENDAR
VERSION:2.0
PRODID:-//www.livingearthcentermn.org//NONSGML kigkonsult.se iCalcreator 2.
 30.10//
CALSCALE:GREGORIAN
METHOD:PUBLISH
UID:5c96efe4-e2b3-423a-813d-fe758e4157f2
X-WR-CALDESC:Please join us for a Community Seed and Food Swap Event on Sat
 urday\, February 24th\, from 1-3 pm at the United Universalist fellowship 
 hall! We invite you to join other community members to gather together to 
 share local homegrown food and to promote a resilient\, connected communit
 y.\n\nAre you cold? Tired of winter and dreaming of future garden days to 
 come? February is the perfect time of year to start gathering food and see
 ds for the spring. Attendees can trade seeds\, seedlings\, and homemade ba
 ked and canned goods in this barter economy event where no money is exchan
 ged! After trading\, there will be a social hour with refreshments to shar
 e ideas\, recipes\, stories\, and community.\n\nParticipation is free howe
 ver\, you must be registered to attend. Please register here: https://www.
 eventbrite.com/e/community-seed-and-food-swap-tickets-810621951077 \n\nDet
 ails\n\nDate: Saturday\, February 24th from 1 pm-3 pm\n\nLocation: Unitari
 an Universalist Fellowship of Mankato\, in Fellowship Hall.\n\n937 Charles
  Ave\, Mankato\, MN 56001\n\nHosted by: Living Earth Center and Green Sanc
 tuary of Unitarian Universalist Church.\n\nFor questions\, please contact 
 info@livingearthcentermn.org
X-WR-RELCALID:7561e6caa987e022ab9d169b67ffa26a
X-WR-TIMEZONE:America/Chicago
BEGIN:VTIMEZONE
TZID:America/Chicago
BEGIN:STANDARD
TZNAME:CST
DTSTART:20231105T020000
TZOFFSETFROM:-0500
TZOFFSETTO:-0600
RDATE:20241103T020000
END:STANDARD
BEGIN:DAYLIGHT
TZNAME:CDT
DTSTART:20230312T020000
TZOFFSETFROM:-0600
TZOFFSETTO:-0500
RDATE:20240310T020000
RDATE:20250309T020000
END:DAYLIGHT
END:VTIMEZONE
BEGIN:VEVENT
UID:42b115ca-19d4-4e4c-825b-f6ecb6368fe0
DTSTAMP:20260422T015728Z
DESCRIPTION:Please join us for a Community Seed and Food Swap Event on Satu
 rday\, February 24th\, from 1-3 pm at the United Universalist fellowship h
 all! We invite you to join other community members to gather together to s
 hare local homegrown food and to promote a resilient\, connected community
 .\n\nAre you cold? Tired of winter and dreaming of future garden days to c
 ome? February is the perfect time of year to start gathering food and seed
 s for the spring. Attendees can trade seeds\, seedlings\, and homemade bak
 ed and canned goods in this barter economy event where no money is exchang
 ed! After trading\, there will be a social hour with refreshments to share
  ideas\, recipes\, stories\, and community.\n\nParticipation is free howev
 er\, you must be registered to attend. Please register here: https://www.e
 ventbrite.com/e/community-seed-and-food-swap-tickets-810621951077 \n\nDeta
 ils\n\nDate: Saturday\, February 24th from 1 pm-3 pm\n\nLocation: Unitaria
 n Universalist Fellowship of Mankato\, in Fellowship Hall.\n\n937 Charles 
 Ave\, Mankato\, MN 56001\n\nHosted by: Living Earth Center and Green Sanct
 uary of Unitarian Universalist Church.\n\nFor questions\, please contact i
 nfo@livingearthcentermn.org
DTSTART;TZID=America/Chicago:20240224T130000
DTEND;TZID=America/Chicago:20240224T150000
LOCATION:937 Charles Ave\, Mankato\, MN 56001\, Mankato\, MN 56001 US
SUMMARY:Community Seed and Food Swap
END:VEVENT
END:VCALENDAR
