BEGIN:VCALENDAR
VERSION:2.0
PRODID:-//www.livingearthcentermn.org//NONSGML kigkonsult.se iCalcreator 2.
 30.10//
CALSCALE:GREGORIAN
METHOD:PUBLISH
UID:c3804c58-17b4-44f1-9422-f7bb4a575cce
X-WR-CALDESC:THIS WORKSHOP HAS BEEN CANCELED DUE TO UNFORSEEN CIRCUMSTANCES
 . THANK YOU FOR YOUR INTEREST AND SUPPORT OF LEC.\n\n\nTake a moment to un
 wind and learn new ways of caring for your mind and body this coming winte
 r through our natural self-care workshop. Discover the rejuvenating and he
 aling benefits of incorporating locally sourced herbs into your self-care 
 routine with two delightful activities: An herbal facial steam and craftin
 g your own herbal clay facemask.\n\nHosted by holistic esthetician and her
 balist Allegra Kay\, who believes nature is more powerful than anything yo
 u can buy in a bottle. With her guidance you'll acquire the skills to recr
 eate these winter refreshments in the comfort of your own home.\n\nJoin us
  for a cozy and relaxing afternoon that will leave your mind and body refr
 eshed\, revitalized\, and ready to conquer the season. Limited spots are a
 vailable\, so book your tickets today!\n\n\nClasses are offered on our tie
 red pricing scale:\nBenefactor: $45\nSustainer: $22\nBase: $15\nScholarshi
 ps available. Please contact info@livingearthcentermn.org to learn more.
X-WR-RELCALID:64344dae50f880d6ec80798a93edba52
X-WR-TIMEZONE:America/Chicago
BEGIN:VTIMEZONE
TZID:America/Chicago
BEGIN:STANDARD
TZNAME:CST
DTSTART:20231105T020000
TZOFFSETFROM:-0500
TZOFFSETTO:-0600
RDATE:20241103T020000
END:STANDARD
BEGIN:DAYLIGHT
TZNAME:CDT
DTSTART:20230312T020000
TZOFFSETFROM:-0600
TZOFFSETTO:-0500
RDATE:20240310T020000
RDATE:20250309T020000
END:DAYLIGHT
END:VTIMEZONE
BEGIN:VEVENT
UID:0239d762-2ecc-47f0-85db-1a35fd3fdeec
DTSTAMP:20260421T203007Z
DESCRIPTION:THIS WORKSHOP HAS BEEN CANCELED DUE TO UNFORSEEN CIRCUMSTANCES.
  THANK YOU FOR YOUR INTEREST AND SUPPORT OF LEC.\n\n\nTake a moment to unw
 ind and learn new ways of caring for your mind and body this coming winter
  through our natural self-care workshop. Discover the rejuvenating and hea
 ling benefits of incorporating locally sourced herbs into your self-care r
 outine with two delightful activities: An herbal facial steam and crafting
  your own herbal clay facemask.\n\nHosted by holistic esthetician and herb
 alist Allegra Kay\, who believes nature is more powerful than anything you
  can buy in a bottle. With her guidance you'll acquire the skills to recre
 ate these winter refreshments in the comfort of your own home.\n\nJoin us 
 for a cozy and relaxing afternoon that will leave your mind and body refre
 shed\, revitalized\, and ready to conquer the season. Limited spots are av
 ailable\, so book your tickets today!\n\n\nClasses are offered on our tier
 ed pricing scale:\nBenefactor: $45\nSustainer: $22\nBase: $15\nScholarship
 s available. Please contact info@livingearthcentermn.org to learn more.
DTSTART;TZID=America/Chicago:20231118T130000
DTEND;TZID=America/Chicago:20231118T143000
LOCATION:1603 N Riverfront Dr\, Mankato\, MN 56001\, Mankato\, MN 56001 US
SUMMARY:Natural Self-Care Workshop CANCELED
END:VEVENT
END:VCALENDAR
