BEGIN:VCALENDAR
VERSION:2.0
PRODID:-//www.livingearthcentermn.org//NONSGML kigkonsult.se iCalcreator 2.
 30.10//
CALSCALE:GREGORIAN
METHOD:PUBLISH
UID:75e2b9d4-4521-42df-a84d-547a090cd31b
X-WR-CALDESC:Due to rain this event has been postponed to Saturday October 
 7th 1-4pm. We hope to see you there!\n\nJoin Living Earth Center at the Bl
 ue Earth County Community Farm to celebrate the first day of Fall! We will
  have fall crafts\, caramel apple dipping\, fresh pressed apple cider\, ga
 mes\, and more fun for the whole family. Everyone is welcome to join us at
  this FREE community event!
X-WR-RELCALID:5c15ee9e687fa846074b8f40e1da6b61
X-WR-TIMEZONE:America/Chicago
BEGIN:VTIMEZONE
TZID:America/Chicago
BEGIN:STANDARD
TZNAME:CST
DTSTART:20221106T020000
TZOFFSETFROM:-0500
TZOFFSETTO:-0600
RDATE:20231105T020000
RDATE:20241103T020000
END:STANDARD
BEGIN:DAYLIGHT
TZNAME:CDT
DTSTART:20230312T020000
TZOFFSETFROM:-0600
TZOFFSETTO:-0500
RDATE:20240310T020000
RDATE:20250309T020000
END:DAYLIGHT
END:VTIMEZONE
BEGIN:VEVENT
UID:959a3891-a817-4b63-a6b4-3a674d706bc5
DTSTAMP:20260420T104100Z
DESCRIPTION:Due to rain this event has been postponed to Saturday October 7
 th 1-4pm. We hope to see you there!\n\nJoin Living Earth Center at the Blu
 e Earth County Community Farm to celebrate the first day of Fall! We will 
 have fall crafts\, caramel apple dipping\, fresh pressed apple cider\, gam
 es\, and more fun for the whole family. Everyone is welcome to join us at 
 this FREE community event!
DTSTART;TZID=America/Chicago:20230923T130000
DTEND;TZID=America/Chicago:20230923T160000
LOCATION:Blue Earth Community Farm 20612 Indian Lake Rd\, Mankato\, MN 5600
 1
SUMMARY:Fall Fest POSTPONED
END:VEVENT
END:VCALENDAR
