BEGIN:VCALENDAR
VERSION:2.0
PRODID:-//www.livingearthcentermn.org//NONSGML kigkonsult.se iCalcreator 2.
 30.10//
CALSCALE:GREGORIAN
METHOD:PUBLISH
UID:757173e4-73df-426b-a821-b1066dd535cf
X-WR-CALDESC:Chakra Jams is back by the big red barn (at Living Earth Cente
 r) with live music by the Shape of Walter!\n\nShow up at 6 pm for yoga\nOR
  at 6:45 pm if yoga isn't your jam
X-WR-RELCALID:6cde9c3731ce17104a1ba516873b2c49
X-WR-TIMEZONE:America/Chicago
BEGIN:VTIMEZONE
TZID:America/Chicago
BEGIN:STANDARD
TZNAME:CST
DTSTART:20221106T020000
TZOFFSETFROM:-0500
TZOFFSETTO:-0600
RDATE:20231105T020000
RDATE:20241103T020000
END:STANDARD
BEGIN:DAYLIGHT
TZNAME:CDT
DTSTART:20230312T020000
TZOFFSETFROM:-0600
TZOFFSETTO:-0500
RDATE:20240310T020000
RDATE:20250309T020000
END:DAYLIGHT
END:VTIMEZONE
BEGIN:VEVENT
UID:8e2cfe5d-4084-4a31-96a4-2ecb7b6a9e96
DTSTAMP:20260421T171658Z
DESCRIPTION:Chakra Jams is back by the big red barn (at Living Earth Center
 ) with live music by the Shape of Walter!\n\nShow up at 6 pm for yoga\nOR 
 at 6:45 pm if yoga isn't your jam
DTSTART;TZID=America/Chicago:20230912T180000
DTEND;TZID=America/Chicago:20230912T210000
LOCATION:Big Red Barn 170 Good Counsel Dr\, Mankato\, MN 56001
SUMMARY:Chakra Jams
END:VEVENT
END:VCALENDAR
