BEGIN:VCALENDAR
VERSION:2.0
PRODID:-//www.livingearthcentermn.org//NONSGML kigkonsult.se iCalcreator 2.
 30.10//
CALSCALE:GREGORIAN
METHOD:PUBLISH
UID:548e4c5b-50bb-47b5-9d2c-0245459e78a2
X-WR-CALDESC:Reclaim sovereignty in your beauty routine through learning ho
 w to utilize plants grown in your own backyard to improve skin health. Tau
 ght by Allegra Kay\, holistic esthetician from Menari Body Works. As a bud
 ding herbalist who believes in the power of holistic skincare\, Allegra wi
 ll show us how to use a home facial steam to absorb the health benefits of
  different plants. \n\nClasses are offered on our tiered pricing scale:\nB
 enefactor: $45\nSustainer: $22\nBase: $15\nStudent/Reduced: $7\nFull schol
 arship available. Please contact info@livingearthcentermn.org to learn mor
 e. \n\nPlease register using the link below.
X-WR-RELCALID:18f6f7bd42ac7833e79e8ab762c780df
X-WR-TIMEZONE:America/Chicago
BEGIN:VTIMEZONE
TZID:America/Chicago
BEGIN:STANDARD
TZNAME:CST
DTSTART:20221106T020000
TZOFFSETFROM:-0500
TZOFFSETTO:-0600
RDATE:20231105T020000
RDATE:20241103T020000
END:STANDARD
BEGIN:DAYLIGHT
TZNAME:CDT
DTSTART:20230312T020000
TZOFFSETFROM:-0600
TZOFFSETTO:-0500
RDATE:20240310T020000
END:DAYLIGHT
END:VTIMEZONE
BEGIN:VEVENT
UID:7664f868-73bb-4e9e-b5b7-bb2d60c89fb8
DTSTAMP:20260421T133330Z
DESCRIPTION:Reclaim sovereignty in your beauty routine through learning how
  to utilize plants grown in your own backyard to improve skin health. Taug
 ht by Allegra Kay\, holistic esthetician from Menari Body Works. As a budd
 ing herbalist who believes in the power of holistic skincare\, Allegra wil
 l show us how to use a home facial steam to absorb the health benefits of 
 different plants. \n\nClasses are offered on our tiered pricing scale:\nBe
 nefactor: $45\nSustainer: $22\nBase: $15\nStudent/Reduced: $7\nFull schola
 rship available. Please contact info@livingearthcentermn.org to learn more
 . \n\nPlease register using the link below.
DTSTART;TZID=America/Chicago:20230729T170000
DTEND;TZID=America/Chicago:20230729T181500
LOCATION:Big Red Barn 170 Good Counsel Dr\, Mankato\, MN 56001
SUMMARY:Natural Beauty 101
END:VEVENT
END:VCALENDAR
