BEGIN:VCALENDAR
VERSION:2.0
PRODID:-//www.livingearthcentermn.org//NONSGML kigkonsult.se iCalcreator 2.
 30.10//
CALSCALE:GREGORIAN
METHOD:PUBLISH
UID:4719d350-1ce0-4ef9-a496-cf47534568c5
X-WR-CALDESC:Have you ever been walking in nature and thought “what kind of
  plant is that?” Now you can know! Learn to look at plants like a botanist
  from experienced local botanist and Prairie Enthusiast Addeline Theis. We
  will learn what to look for when identifying plants and flowers\, the bes
 t resources to use\, and go for a guided hike to test our skills. All ages
  welcome! \n\nClasses are offered on our tiered pricing scale:\nBenefactor
 : $45\nSustainer: $22\nBase: $15\nStudent/Reduced: $7\nFull scholarship av
 ailable. Please contact info@livingearthcentermn.org to learn more. \n
X-WR-RELCALID:2899ceb12084a95dbb9a8b111a918b40
X-WR-TIMEZONE:America/Chicago
BEGIN:VTIMEZONE
TZID:America/Chicago
BEGIN:STANDARD
TZNAME:CST
DTSTART:20221106T020000
TZOFFSETFROM:-0500
TZOFFSETTO:-0600
RDATE:20231105T020000
RDATE:20241103T020000
END:STANDARD
BEGIN:DAYLIGHT
TZNAME:CDT
DTSTART:20230312T020000
TZOFFSETFROM:-0600
TZOFFSETTO:-0500
RDATE:20240310T020000
END:DAYLIGHT
END:VTIMEZONE
BEGIN:VEVENT
UID:6bef4919-f887-4370-8ec4-d23ce8f98e46
DTSTAMP:20260421T133315Z
DESCRIPTION:Have you ever been walking in nature and thought “what kind of 
 plant is that?” Now you can know! Learn to look at plants like a botanist 
 from experienced local botanist and Prairie Enthusiast Addeline Theis. We 
 will learn what to look for when identifying plants and flowers\, the best
  resources to use\, and go for a guided hike to test our skills. All ages 
 welcome! \n\nClasses are offered on our tiered pricing scale:\nBenefactor:
  $45\nSustainer: $22\nBase: $15\nStudent/Reduced: $7\nFull scholarship ava
 ilable. Please contact info@livingearthcentermn.org to learn more. \n
DTSTART;TZID=America/Chicago:20230722T170000
DTEND;TZID=America/Chicago:20230722T183000
LOCATION:Big Red Barn 170 Good Counsel Dr\, Mankato\, MN 56001
SUMMARY:Plant ID 101
END:VEVENT
END:VCALENDAR
