BEGIN:VCALENDAR
VERSION:2.0
PRODID:-//www.livingearthcentermn.org//NONSGML kigkonsult.se iCalcreator 2.
 30.10//
CALSCALE:GREGORIAN
METHOD:PUBLISH
UID:fbe58f7a-69da-4926-8c86-3b793e6bad0a
X-WR-CALDESC:SOLD OUT! No more tickets available. Thank you for your suppor
 t of Living Earth Center. \n\nYou are cordially invited to a Wine & Cheese
  Garden Party!\nA fundraiser for Living Earth Center.\nEnjoy a relaxing ev
 ening at the Historic Big Red Barn in our beautiful Community Garden.\n\nW
 ines from Morgan Creek Vineyards\, paired with cheeses selected by Jim Von
 derharr\, former St Peter Co-op Cheesemonger.\n\nTickets $40 per person\no
 r\n$225 for a table (6 seats)\n\nSpace is limited. R.S.V.P. to info@living
 earthcentermn.org by June 16th
X-WR-RELCALID:47f827419be9bbe1c2883c14341b2b01
X-WR-TIMEZONE:America/Chicago
BEGIN:VTIMEZONE
TZID:America/Chicago
BEGIN:STANDARD
TZNAME:CST
DTSTART:20221106T020000
TZOFFSETFROM:-0500
TZOFFSETTO:-0600
RDATE:20231105T020000
RDATE:20241103T020000
END:STANDARD
BEGIN:DAYLIGHT
TZNAME:CDT
DTSTART:20230312T020000
TZOFFSETFROM:-0600
TZOFFSETTO:-0500
RDATE:20240310T020000
END:DAYLIGHT
END:VTIMEZONE
BEGIN:VEVENT
UID:2c8c03e3-9cb1-4c0f-91fc-66833d19ee6f
DTSTAMP:20260420T210234Z
DESCRIPTION:SOLD OUT! No more tickets available. Thank you for your support
  of Living Earth Center. \n\nYou are cordially invited to a Wine & Cheese 
 Garden Party!\nA fundraiser for Living Earth Center.\nEnjoy a relaxing eve
 ning at the Historic Big Red Barn in our beautiful Community Garden.\n\nWi
 nes from Morgan Creek Vineyards\, paired with cheeses selected by Jim Vond
 erharr\, former St Peter Co-op Cheesemonger.\n\nTickets $40 per person\nor
 \n$225 for a table (6 seats)\n\nSpace is limited. R.S.V.P. to info@livinge
 arthcentermn.org by June 16th
DTSTART;TZID=America/Chicago:20230627T180000
DTEND;TZID=America/Chicago:20230627T200000
LOCATION:Big Red Barn 170 Good Counsel Dr\, Mankato\, MN 56001
SUMMARY:- SOLD OUT - Wine & Cheese Pairing Fundraiser
END:VEVENT
END:VCALENDAR
