BEGIN:VCALENDAR
VERSION:2.0
PRODID:-//www.livingearthcentermn.org//NONSGML kigkonsult.se iCalcreator 2.
 30.10//
CALSCALE:GREGORIAN
METHOD:PUBLISH
UID:e8b41ee3-a81f-42d4-aa18-e055a5b67c20
X-WR-CALDESC:Sorry for the inconvenience\, this event has been cancelled.\n
 We look forward to seeing your performances in July!\n\nCalling all musici
 ans (with 2-3 songs)\, poets\, dancers and entertainers! Join your communi
 ty for an open mic night in the garden. Come at 6:45pm to sign up to perfo
 rm. Bring your chairs or blanket. We will provide the sound system. No alc
 ohol or dogs allowed.\n\nThis event is free with donations gratefully acce
 pted.\n\nPark in Loyola High School parking lot across the street from the
  big red barn.\n\nRegister through Eventbrite to perform or attend.
X-WR-RELCALID:7c9ee36f1b9cd586d68da57b352c0893
X-WR-TIMEZONE:America/Chicago
BEGIN:VTIMEZONE
TZID:America/Chicago
BEGIN:STANDARD
TZNAME:CST
DTSTART:20221106T020000
TZOFFSETFROM:-0500
TZOFFSETTO:-0600
RDATE:20231105T020000
RDATE:20241103T020000
END:STANDARD
BEGIN:DAYLIGHT
TZNAME:CDT
DTSTART:20230312T020000
TZOFFSETFROM:-0600
TZOFFSETTO:-0500
RDATE:20240310T020000
END:DAYLIGHT
END:VTIMEZONE
BEGIN:VEVENT
UID:71b43f9e-0c97-4691-b20f-ecea9b52b416
DTSTAMP:20260421T120208Z
DESCRIPTION:Sorry for the inconvenience\, this event has been cancelled.\nW
 e look forward to seeing your performances in July!\n\nCalling all musicia
 ns (with 2-3 songs)\, poets\, dancers and entertainers! Join your communit
 y for an open mic night in the garden. Come at 6:45pm to sign up to perfor
 m. Bring your chairs or blanket. We will provide the sound system. No alco
 hol or dogs allowed.\n\nThis event is free with donations gratefully accep
 ted.\n\nPark in Loyola High School parking lot across the street from the 
 big red barn.\n\nRegister through Eventbrite to perform or attend.
DTSTART;TZID=America/Chicago:20230625T190000
DTEND;TZID=America/Chicago:20230625T203000
LOCATION:
SUMMARY:CANCELLED - Open Mic Night - See you in July!
END:VEVENT
END:VCALENDAR
