BEGIN:VCALENDAR
VERSION:2.0
PRODID:-//www.livingearthcentermn.org//NONSGML kigkonsult.se iCalcreator 2.
 30.10//
CALSCALE:GREGORIAN
METHOD:PUBLISH
UID:f122ae90-4d24-4287-9fe0-ed20a1e142c6
X-WR-CALDESC:Bring a picnic\, blanket or chairs and join us at the Big Red 
 Barn to celebrate the longest day of the year.\n\nLaura Karels of Bee Balm
  Fields will provide live music. This family friendly event will also incl
 ude kid's crafts\, lawn games\, an original poem from Living Earth Center'
 s Poet Laureate Esther Hoffmann\, a reflection ritual\, sharing of music a
 nd percussion and will end with fire dancers.\n\nEvent is free\, with free
 -will donation to LEC encouraged
X-WR-RELCALID:37ac06ea7b25906e133b22cb6986c2dd
X-WR-TIMEZONE:America/Chicago
BEGIN:VTIMEZONE
TZID:America/Chicago
BEGIN:STANDARD
TZNAME:CST
DTSTART:20221106T020000
TZOFFSETFROM:-0500
TZOFFSETTO:-0600
RDATE:20231105T020000
RDATE:20241103T020000
END:STANDARD
BEGIN:DAYLIGHT
TZNAME:CDT
DTSTART:20230312T020000
TZOFFSETFROM:-0600
TZOFFSETTO:-0500
RDATE:20240310T020000
END:DAYLIGHT
END:VTIMEZONE
BEGIN:VEVENT
UID:cef9378a-c87c-44b8-a1ea-5018c211587d
DTSTAMP:20260420T125639Z
DESCRIPTION:Bring a picnic\, blanket or chairs and join us at the Big Red B
 arn to celebrate the longest day of the year.\n\nLaura Karels of Bee Balm 
 Fields will provide live music. This family friendly event will also inclu
 de kid's crafts\, lawn games\, an original poem from Living Earth Center's
  Poet Laureate Esther Hoffmann\, a reflection ritual\, sharing of music an
 d percussion and will end with fire dancers.\n\nEvent is free\, with free-
 will donation to LEC encouraged
DTSTART;TZID=America/Chicago:20230621T173000
DTEND;TZID=America/Chicago:20230621T190000
LOCATION:LEC Community Garden\, 170 Good Counsel Dr\, Mankato\, MN 56001 US
SUMMARY:Summer Solstice Celebration
END:VEVENT
END:VCALENDAR
