BEGIN:VCALENDAR
VERSION:2.0
PRODID:-//www.livingearthcentermn.org//NONSGML kigkonsult.se iCalcreator 2.
 30.10//
CALSCALE:GREGORIAN
METHOD:PUBLISH
UID:944ebcce-ea97-4547-a928-8d569a821f5b
X-WR-CALDESC:We’ve moved! Come see our new office located on N Riverfront D
 r. We are so excited to share our new space with the community. Official r
 ibbon cutting is at 12:30. \n\nZip Zap Ice Cream and Abu Bilal food trucks
  will be joining in the celebration\, so come get some lunch!  There will 
 be yard games\, and take home flower seed planting\, so bring the family! 
 We hope to see you there. \n\nWe are located behind Discover Chiropractic.
  Street parking available.
X-WR-RELCALID:93c4451a6dccb8477774750b30aceba1
X-WR-TIMEZONE:America/Chicago
BEGIN:VTIMEZONE
TZID:America/Chicago
BEGIN:STANDARD
TZNAME:CST
DTSTART:20221106T020000
TZOFFSETFROM:-0500
TZOFFSETTO:-0600
RDATE:20231105T020000
RDATE:20241103T020000
END:STANDARD
BEGIN:DAYLIGHT
TZNAME:CDT
DTSTART:20230312T020000
TZOFFSETFROM:-0600
TZOFFSETTO:-0500
RDATE:20240310T020000
END:DAYLIGHT
END:VTIMEZONE
BEGIN:VEVENT
UID:043911da-6647-41c8-b245-30251dfdeeee
DTSTAMP:20260421T120651Z
DESCRIPTION:We’ve moved! Come see our new office located on N Riverfront Dr
 . We are so excited to share our new space with the community. Official ri
 bbon cutting is at 12:30. \n\nZip Zap Ice Cream and Abu Bilal food trucks 
 will be joining in the celebration\, so come get some lunch!  There will b
 e yard games\, and take home flower seed planting\, so bring the family! W
 e hope to see you there. \n\nWe are located behind Discover Chiropractic. 
 Street parking available.
DTSTART;TZID=America/Chicago:20230601T120000
DTEND;TZID=America/Chicago:20230601T150000
LOCATION:1603 N Riverfront Dr\, Mankato \, MN 56001 US
SUMMARY:Office Open House
END:VEVENT
END:VCALENDAR
