BEGIN:VCALENDAR
VERSION:2.0
PRODID:-//www.livingearthcentermn.org//NONSGML kigkonsult.se iCalcreator 2.
 30.10//
CALSCALE:GREGORIAN
METHOD:PUBLISH
UID:620836f2-561a-43de-8227-b45de97f56b9
X-WR-CALDESC:Chakra Jams is back by the big red barn (at the Living Earth C
 enter) with live music by the Shape of Walter!\nShow up at 7 pm for yoga\n
 OR at 7:45 pm if yoga isn't your jam
X-WR-RELCALID:5e22ff3b7ad20c9315854f688777d01f
X-WR-TIMEZONE:America/Chicago
BEGIN:VTIMEZONE
TZID:America/Chicago
BEGIN:STANDARD
TZNAME:CST
DTSTART:20211107T020000
TZOFFSETFROM:-0500
TZOFFSETTO:-0600
RDATE:20221106T020000
RDATE:20231105T020000
END:STANDARD
BEGIN:DAYLIGHT
TZNAME:CDT
DTSTART:20220313T020000
TZOFFSETFROM:-0600
TZOFFSETTO:-0500
RDATE:20230312T020000
END:DAYLIGHT
END:VTIMEZONE
BEGIN:VEVENT
UID:b20c4eec-056b-4c79-ad86-f057e123f310
DTSTAMP:20260421T103335Z
DESCRIPTION:Chakra Jams is back by the big red barn (at the Living Earth Ce
 nter) with live music by the Shape of Walter!\nShow up at 7 pm for yoga\nO
 R at 7:45 pm if yoga isn't your jam
DTSTART;TZID=America/Chicago:20220823T190000
DTEND;TZID=America/Chicago:20220823T210000
LOCATION:Big Red Barn\, 170 Good Counsel Dr.\, Mankato\, MN 56001
SUMMARY:Chakra Jams III
END:VEVENT
END:VCALENDAR
