BEGIN:VCALENDAR
VERSION:2.0
PRODID:-//www.livingearthcentermn.org//NONSGML kigkonsult.se iCalcreator 2.
 30.10//
CALSCALE:GREGORIAN
METHOD:PUBLISH
UID:3b52146a-f49e-4bf5-b475-4edaedb56ac2
X-WR-CALDESC:We had so much fun the first time\, we are bringing it back in
  July! Performers come at 6:45pm and get your name on the set list. Bring 
 chairs or blankets to sit on. Water will be provided\, but feel free to br
 ing your own non-alcoholic beverages and snacks. No pets allowed. Donation
 s gratefully accepted.
X-WR-RELCALID:cd3ba4a3cf05c9552c598c240a9ce6d5
X-WR-TIMEZONE:America/Chicago
BEGIN:VTIMEZONE
TZID:America/Chicago
BEGIN:STANDARD
TZNAME:CST
DTSTART:20211107T020000
TZOFFSETFROM:-0500
TZOFFSETTO:-0600
RDATE:20221106T020000
RDATE:20231105T020000
END:STANDARD
BEGIN:DAYLIGHT
TZNAME:CDT
DTSTART:20220313T020000
TZOFFSETFROM:-0600
TZOFFSETTO:-0500
RDATE:20230312T020000
END:DAYLIGHT
END:VTIMEZONE
BEGIN:VEVENT
UID:5aba61bc-4f95-4c5c-bc1f-0dac4568d043
DTSTAMP:20260421T085936Z
DESCRIPTION:We had so much fun the first time\, we are bringing it back in 
 July! Performers come at 6:45pm and get your name on the set list. Bring c
 hairs or blankets to sit on. Water will be provided\, but feel free to bri
 ng your own non-alcoholic beverages and snacks. No pets allowed. Donations
  gratefully accepted.
DTSTART;TZID=America/Chicago:20220731T190000
DTEND;TZID=America/Chicago:20220731T210000
LOCATION:Big Red Barn\, 170 Good Counsel Dr.\, Mankato\, MN 56001
SUMMARY:Open Mic in the Garden
END:VEVENT
END:VCALENDAR
