BEGIN:VCALENDAR
VERSION:2.0
PRODID:-//www.livingearthcentermn.org//NONSGML kigkonsult.se iCalcreator 2.
 30.10//
CALSCALE:GREGORIAN
METHOD:PUBLISH
UID:a1685d98-aa68-44b3-9094-bc59bbb05cf1
X-WR-CALDESC:Living Earth Center will be hosting a *virtual* open mic night
 !\n\nIn brainstorming ways to continue to create space to bring our commun
 ity together we have decided to give hosting a virtual open mic night a tr
 y...\n\nHere's how it works:  we challenged local musicians and artists to
  submit a video around a theme\, then we will air all the videos live in a
 n online community zoom meetup!\n\nWe were pleased at the reception the id
 ea received from local contributing artists and hope that you will join us
  to watch the fruits of their creative labor!\n\nMay's theme is GREEN!\n\n
 Current Confirmed Participants:\nLaura and Colin from Good Night Gold Dust
 \nHanna Cesario\nJenn Melby-Kelley\nKaleb Braun-Schulz\nMal Murphy\nwith b
 ellydance performances from:\nSatori Violet Fly Fusion\nPryder Danse\n\nCl
 ick below to enter the meeting\, throw some money in the tip jar\, or get 
 more info.
X-WR-RELCALID:b470c1130f271259de7b0c6298b2fda3
X-WR-TIMEZONE:America/Chicago
BEGIN:VTIMEZONE
TZID:America/Chicago
BEGIN:STANDARD
TZNAME:CST
DTSTART:20191103T020000
TZOFFSETFROM:-0500
TZOFFSETTO:-0600
RDATE:20201101T020000
RDATE:20211107T020000
END:STANDARD
BEGIN:DAYLIGHT
TZNAME:CDT
DTSTART:20200308T020000
TZOFFSETFROM:-0600
TZOFFSETTO:-0500
RDATE:20210314T020000
END:DAYLIGHT
END:VTIMEZONE
BEGIN:VEVENT
UID:89295202-551a-4a85-9601-98f0675317b4
DTSTAMP:20260421T090209Z
DESCRIPTION:Living Earth Center will be hosting a *virtual* open mic night!
 \n\nIn brainstorming ways to continue to create space to bring our communi
 ty together we have decided to give hosting a virtual open mic night a try
 ...\n\nHere's how it works:  we challenged local musicians and artists to 
 submit a video around a theme\, then we will air all the videos live in an
  online community zoom meetup!\n\nWe were pleased at the reception the ide
 a received from local contributing artists and hope that you will join us 
 to watch the fruits of their creative labor!\n\nMay's theme is GREEN!\n\nC
 urrent Confirmed Participants:\nLaura and Colin from Good Night Gold Dust
 \nHanna Cesario\nJenn Melby-Kelley\nKaleb Braun-Schulz\nMal Murphy\nwith b
 ellydance performances from:\nSatori Violet Fly Fusion\nPryder Danse\n\nCl
 ick below to enter the meeting\, throw some money in the tip jar\, or get 
 more info.
DTSTART;TZID=America/Chicago:20200522T173000
DTEND;TZID=America/Chicago:20200522T183000
LOCATION:ONLINE- Via Zoom Meeting
SUMMARY:May Virtual Open Mic Night
END:VEVENT
END:VCALENDAR
