BEGIN:VCALENDAR
VERSION:2.0
PRODID:-//www.livingearthcentermn.org//NONSGML kigkonsult.se iCalcreator 2.
 30.10//
CALSCALE:GREGORIAN
METHOD:PUBLISH
UID:db9e5165-0fbd-4dc3-80a6-3c6b31ae68b5
X-WR-CALDESC:What?: Come out to join and celebrate with friends and your co
 mmunity at the Big Red Barn's Open Mic as a salute to the Fall Equinox. Si
 t under the fall colors\, enjoy sipping on hot cider and listen to our bri
 lliant acts. We have some fun surprises in store including raffles and sea
 sonal treats!\n\nWho? All are welcome here! Anyone is able to sign up for 
 a slot in our open mic night with 10 minute time slots. We want to represe
 nt the Mankato community as a whole\, young and old\, newbie and advanced 
 artist are encourage to attend.\n\nYou can sign up for a time slot beginni
 ng 30 minutes before the event starts (6:30).\n\nWhere?: Living Earth Cent
 er's Big Red Barn\n170 Good Counsel Dr\nMankato\, MN 56001\n\nPlease park 
 in the Loyola parking lot across the street.
X-WR-RELCALID:be4f2d74f8a5e17f08acbf3ee0cc0065
X-WR-TIMEZONE:America/Chicago
BEGIN:VTIMEZONE
TZID:America/Chicago
BEGIN:STANDARD
TZNAME:CST
DTSTART:20181104T020000
TZOFFSETFROM:-0500
TZOFFSETTO:-0600
RDATE:20191103T020000
RDATE:20201101T020000
END:STANDARD
BEGIN:DAYLIGHT
TZNAME:CDT
DTSTART:20190310T020000
TZOFFSETFROM:-0600
TZOFFSETTO:-0500
RDATE:20200308T020000
RDATE:20210314T020000
END:DAYLIGHT
END:VTIMEZONE
BEGIN:VEVENT
UID:4d6210f3-d502-452c-ab57-9af5a48d0acc
DTSTAMP:20260421T103851Z
DESCRIPTION:What?: Come out to join and celebrate with friends and your com
 munity at the Big Red Barn's Open Mic as a salute to the Fall Equinox. Sit
  under the fall colors\, enjoy sipping on hot cider and listen to our bril
 liant acts. We have some fun surprises in store including raffles and seas
 onal treats!\n\nWho? All are welcome here! Anyone is able to sign up for a
  slot in our open mic night with 10 minute time slots. We want to represen
 t the Mankato community as a whole\, young and old\, newbie and advanced a
 rtist are encourage to attend.\n\nYou can sign up for a time slot beginnin
 g 30 minutes before the event starts (6:30).\n\nWhere?: Living Earth Cente
 r's Big Red Barn\n170 Good Counsel Dr\nMankato\, MN 56001\n\nPlease park i
 n the Loyola parking lot across the street.
DTSTART;TZID=America/Chicago:20190927T190000
DTEND;TZID=America/Chicago:20190927T210000
LOCATION:Big Red Barn\, Living Earth Community Garden\, 170 Good Counsel Dr
 . Mankato\, MN 56001
SUMMARY:Big Red Barn's Fall Open Mic Night
END:VEVENT
END:VCALENDAR
