BEGIN:VCALENDAR
VERSION:2.0
PRODID:-//www.livingearthcentermn.org//NONSGML kigkonsult.se iCalcreator 2.
 30.10//
CALSCALE:GREGORIAN
METHOD:PUBLISH
UID:2dad4267-53b7-4435-b8c0-72b43553d762
X-WR-CALDESC:Come celebrate the bounty of Southern Minnesota's largest comm
 unity garden! Living Earth Center is sponsoring our first ever Meat-less M
 eat Raffle! Everyone in attendance will receive a free ticket for a chance
  to win a basket of organic produce. More organic goodies from local partn
 ers and the Living Earth Community Garden will be available for silent auc
 tion purchase. \n\nThere will be live music by Mankato's own\, Lost Walley
 e Orchestra!\n\nCome enjoy food\, friends\, a beer or two\, and of course 
 some fresh homegrown veggies!\n\nNo registration necessary- just come as y
 ou are with as many friends and family that you can find!
X-WR-RELCALID:b6e91a1da5cdaa5d0d5be1ef054f8639
X-WR-TIMEZONE:America/Chicago
BEGIN:VTIMEZONE
TZID:America/Chicago
BEGIN:STANDARD
TZNAME:CST
DTSTART:20181104T020000
TZOFFSETFROM:-0500
TZOFFSETTO:-0600
RDATE:20191103T020000
RDATE:20201101T020000
END:STANDARD
BEGIN:DAYLIGHT
TZNAME:CDT
DTSTART:20190310T020000
TZOFFSETFROM:-0600
TZOFFSETTO:-0500
RDATE:20200308T020000
RDATE:20210314T020000
END:DAYLIGHT
END:VTIMEZONE
BEGIN:VEVENT
UID:5d82e24a-7727-4f0f-8ee3-bc5d2fa01112
DTSTAMP:20260421T103329Z
DESCRIPTION:Come celebrate the bounty of Southern Minnesota's largest commu
 nity garden! Living Earth Center is sponsoring our first ever Meat-less Me
 at Raffle! Everyone in attendance will receive a free ticket for a chance 
 to win a basket of organic produce. More organic goodies from local partne
 rs and the Living Earth Community Garden will be available for silent auct
 ion purchase. \n\nThere will be live music by Mankato's own\, Lost Walleye
  Orchestra!\n\nCome enjoy food\, friends\, a beer or two\, and of course s
 ome fresh homegrown veggies!\n\nNo registration necessary- just come as yo
 u are with as many friends and family that you can find!
DTSTART;TZID=America/Chicago:20190917T170000
DTEND;TZID=America/Chicago:20190917T190000
LOCATION:Pub 500\, 500 Front St. Mankato\, MN
SUMMARY:Meatless Meat Raffle
END:VEVENT
END:VCALENDAR
