BEGIN:VCALENDAR
VERSION:2.0
PRODID:-//www.livingearthcentermn.org//NONSGML kigkonsult.se iCalcreator 2.
 30.10//
CALSCALE:GREGORIAN
METHOD:PUBLISH
UID:6233853f-923e-4704-a3bc-2ef4a566084f
X-WR-CALDESC:Please join us for our 2nd Annual Living Earth Center Communit
 y Picnic! We invite you to celebrate Living Earth Center's first year as a
  non-profit with a bbq picnic\, lawn games\, face painting\, prizes\, bell
 ydance performances\, and live music entertainment by Good Night Gold Dust
 ! Please bring lawn chairs or blanket if you wish as well as any friends a
 nd family!\n\nSchedule\n11:00 - noon: check in\, lunch\, program\n\nnoon -
  1:30: Performance by Good Night Gold Dust/ lawn games \n\n1:30 - 2:00: Be
 llydance performances by Satori Violet troupes Bluebelletrix Project and C
 ynefin\n\nRegistration\nPre-registration is required to prepare food. A su
 ggested donation of $15 per person or $25 for families is kindly accepted\
 , however\, nobody is turned away for inability to pay.\n\nPlease register
  at eventbrite:\nhttps://www.eventbrite.com/e/2nd-annual-living-earth-comm
 unity-picnic-featuring-good-night-gold-dust-tickets-65495782649?blm_aid=23
 252\n\nParking\nParking is available in the Loyola High School lot across 
 the road from the Red Barn.\n\nIn case of rain\, we will post information 
 on this page for the alternative location.
X-WR-RELCALID:6313c94577eddda5699a3257b45724ab
X-WR-TIMEZONE:America/Chicago
BEGIN:VTIMEZONE
TZID:America/Chicago
BEGIN:STANDARD
TZNAME:CST
DTSTART:20181104T020000
TZOFFSETFROM:-0500
TZOFFSETTO:-0600
RDATE:20191103T020000
RDATE:20201101T020000
END:STANDARD
BEGIN:DAYLIGHT
TZNAME:CDT
DTSTART:20190310T020000
TZOFFSETFROM:-0600
TZOFFSETTO:-0500
RDATE:20200308T020000
END:DAYLIGHT
END:VTIMEZONE
BEGIN:VEVENT
UID:8f26659a-b909-4ed7-b021-b8951788608f
DTSTAMP:20260421T115317Z
DESCRIPTION:Please join us for our 2nd Annual Living Earth Center Community
  Picnic! We invite you to celebrate Living Earth Center's first year as a 
 non-profit with a bbq picnic\, lawn games\, face painting\, prizes\, belly
 dance performances\, and live music entertainment by Good Night Gold Dust!
  Please bring lawn chairs or blanket if you wish as well as any friends an
 d family!\n\nSchedule\n11:00 - noon: check in\, lunch\, program\n\nnoon - 
 1:30: Performance by Good Night Gold Dust/ lawn games \n\n1:30 - 2:00: Bel
 lydance performances by Satori Violet troupes Bluebelletrix Project and Cy
 nefin\n\nRegistration\nPre-registration is required to prepare food. A sug
 gested donation of $15 per person or $25 for families is kindly accepted\,
  however\, nobody is turned away for inability to pay.\n\nPlease register 
 at eventbrite:\nhttps://www.eventbrite.com/e/2nd-annual-living-earth-commu
 nity-picnic-featuring-good-night-gold-dust-tickets-65495782649?blm_aid=232
 52\n\nParking\nParking is available in the Loyola High School lot across t
 he road from the Red Barn.\n\nIn case of rain\, we will post information o
 n this page for the alternative location.
DTSTART;TZID=America/Chicago:20190824T110000
DTEND;TZID=America/Chicago:20190824T140000
LOCATION:School Sisters of Notre Dame Main Lawn\, 170 Good Counsel Dr. Mank
 ato\, MN 56001
SUMMARY:2nd Annual Living Earth Center Community Picnic
END:VEVENT
END:VCALENDAR
