BEGIN:VCALENDAR
VERSION:2.0
PRODID:-//www.livingearthcentermn.org//NONSGML kigkonsult.se iCalcreator 2.
 30.10//
CALSCALE:GREGORIAN
METHOD:PUBLISH
UID:f1d3b189-ff6d-47d7-8288-aa8f5e727ece
X-WR-CALDESC:Please join us for our 2nd Annual Living Earth Center Communit
 y Picnic! We invite you to celebrate Living Earth Center's first year as a
  non-profit with a bbq picnic\, lawn games\, face painting\, prizes and li
 ve music entertainment by Good Night Gold Dust! Please bring lawn chairs o
 r blanket if you wish as well as any friends and family!\n\nSchedule\n11:0
 0 - noon: check in\, lunch\, program\n\nnoon - 1:30: Performance by Good N
 ight Gold Dust/ lawn games \n\n1:30 - 2:00: Bellydance performances by Sat
 ori Violet troupes Bluebelletrix Project and Cynefin\n\nRegistration\nPre-
 registration is required to prepare food. A suggested donation of $12 is k
 indly accepted\, however\, nobody is turned away for inablity to pay. \n\n
 Parking\nParking is available in the Loyola High School lot across the roa
 d from the Red Barn. \nIn case of rain\, we will post information on this 
 page for the alternative location.
X-WR-RELCALID:9d19b79186f3e97f790eeba7bb5d3d69
X-WR-TIMEZONE:America/Chicago
BEGIN:VTIMEZONE
TZID:America/Chicago
BEGIN:STANDARD
TZNAME:CST
DTSTART:20181104T020000
TZOFFSETFROM:-0500
TZOFFSETTO:-0600
RDATE:20191103T020000
RDATE:20201101T020000
END:STANDARD
BEGIN:DAYLIGHT
TZNAME:CDT
DTSTART:20190310T020000
TZOFFSETFROM:-0600
TZOFFSETTO:-0500
RDATE:20200308T020000
END:DAYLIGHT
END:VTIMEZONE
BEGIN:VEVENT
UID:c53563b9-91af-4c4e-a435-aa5bb14b48a8
DTSTAMP:20260421T134845Z
DESCRIPTION:Please join us for our 2nd Annual Living Earth Center Community
  Picnic! We invite you to celebrate Living Earth Center's first year as a 
 non-profit with a bbq picnic\, lawn games\, face painting\, prizes and liv
 e music entertainment by Good Night Gold Dust! Please bring lawn chairs or
  blanket if you wish as well as any friends and family!\n\nSchedule\n11:00
  - noon: check in\, lunch\, program\n\nnoon - 1:30: Performance by Good Ni
 ght Gold Dust/ lawn games \n\n1:30 - 2:00: Bellydance performances by Sato
 ri Violet troupes Bluebelletrix Project and Cynefin\n\nRegistration\nPre-r
 egistration is required to prepare food. A suggested donation of $12 is ki
 ndly accepted\, however\, nobody is turned away for inablity to pay. \n\nP
 arking\nParking is available in the Loyola High School lot across the road
  from the Red Barn. \nIn case of rain\, we will post information on this p
 age for the alternative location.
DTSTART;TZID=America/Chicago:20190716T110000
DTEND;TZID=America/Chicago:20190716T140000
LOCATION:SSND Main Lawn\, 170 Good Counsel Dr. Mankato\, MN 56001
SUMMARY:2nd Annual Living Earth Community Picnic featuring Good Night Gold 
 Dust  
END:VEVENT
END:VCALENDAR
