BEGIN:VCALENDAR
VERSION:2.0
PRODID:-//www.livingearthcentermn.org//NONSGML kigkonsult.se iCalcreator 2.
 30.10//
CALSCALE:GREGORIAN
METHOD:PUBLISH
UID:9007d8fc-26f4-4da8-b668-d390bb79d795
X-WR-CALDESC:After taking a few years off\, the Summer Solstice Celebration
  is back at Living Earth Center!  We hope you will join us for our party i
 n the garden!\n\nSolstice Schedule:\n5:30: \nRegistration/Check-In\n\n6:00
 -8:00: \nMusic by Mankato's own fabulous Kaleb Braun-Schulz\nPicnic Dinner
  (dinner provided - bring your own blanket and/or lawn chairs) (some table
  seating available)\nLawn Games\nChildren's Crafts\n\n8:00-8:30\nSolstice 
 Reflection\nDrum Circle (bring your own drum!)\n\n8:30-9:00\nFire Dancing 
 by Mankato's own amazing Wóhpe Fire Bellydance Troupe\n\nPayment:\nAdmissi
 on is based on a sliding scale of $10-$100 donation per family.  Please pa
 y what you can.  Nobody is turned away for inability to pay.\n\nRegistrati
 on:\nPre-Registration is requested\n\nParking is in Loyola High School Par
 king Lot
X-WR-RELCALID:d654dc0b5430bc9df86e32e2ae3ea8f0
X-WR-TIMEZONE:America/Chicago
BEGIN:VTIMEZONE
TZID:America/Chicago
BEGIN:STANDARD
TZNAME:CST
DTSTART:20181104T020000
TZOFFSETFROM:-0500
TZOFFSETTO:-0600
RDATE:20191103T020000
RDATE:20201101T020000
END:STANDARD
BEGIN:DAYLIGHT
TZNAME:CDT
DTSTART:20190310T020000
TZOFFSETFROM:-0600
TZOFFSETTO:-0500
RDATE:20200308T020000
END:DAYLIGHT
END:VTIMEZONE
BEGIN:VEVENT
UID:489b52ea-9053-41f9-b594-0c6a59dd276a
DTSTAMP:20260421T151540Z
DESCRIPTION:After taking a few years off\, the Summer Solstice Celebration 
 is back at Living Earth Center!  We hope you will join us for our party in
  the garden!\n\nSolstice Schedule:\n5:30: \nRegistration/Check-In\n\n6:00-
 8:00: \nMusic by Mankato's own fabulous Kaleb Braun-Schulz\nPicnic Dinner 
 (dinner provided - bring your own blanket and/or lawn chairs) (some table 
 seating available)\nLawn Games\nChildren's Crafts\n\n8:00-8:30\nSolstice R
 eflection\nDrum Circle (bring your own drum!)\n\n8:30-9:00\nFire Dancing b
 y Mankato's own amazing Wóhpe Fire Bellydance Troupe\n\nPayment:\nAdmissio
 n is based on a sliding scale of $10-$100 donation per family.  Please pay
  what you can.  Nobody is turned away for inability to pay.\n\nRegistratio
 n:\nPre-Registration is requested\n\nParking is in Loyola High School Park
 ing Lot
DTSTART;TZID=America/Chicago:20190621T170000
DTEND;TZID=America/Chicago:20190621T210000
LOCATION:Living Earth Community Garden\, Big Red Barn\, 170 Good Counsel Dr
 . Mankato\, MN 56001
SUMMARY:Summer Solstice at the Big Red Barn
END:VEVENT
END:VCALENDAR
