BEGIN:VCALENDAR
VERSION:2.0
PRODID:-//www.livingearthcentermn.org//NONSGML kigkonsult.se iCalcreator 2.
 30.10//
CALSCALE:GREGORIAN
METHOD:PUBLISH
UID:5ea84924-651d-4734-b7bc-8ed34acc883e
X-WR-CALDESC:Say Cheese and Savor the Wine! \nPlease join us for Living Ear
 th Center's 1st Annual Wine and Cheese Tasting Party! Adam Marti\, Sales a
 nd Marketing Manager for Morgan Creek Winery and Jim Vonderharr\, Cheese M
 onger Emeritus fro the St. Peter Food Coop will recreate the tasting/pairi
 ngs they presented at last Fall's Wine Stomp at Morgan Creek. Also feature
 d will be artisan breads produced by Montana Rasmussen of River Rock Bakin
 g Company in St. Peter. \n\nPlease join us for this sit down event in the 
 historic Big Red Barn at the Living Earth Community Garden as Adam and Jim
  guide you through the process of selecting and pairing six different wine
 s and cheeses\, each flight showcasing one of River Rocks homemade breads.
  \n\nRegistration\nVery limited space is available and all must pre-regist
 er for the event. \n\nA base registration fee of $30 is requested\, howeve
 r\, any additional donation will go to Living Earth Center.\n\nPlease regi
 ster online at the link below\, or a check with with your name and Wine an
 d Cheese Event in the memo to Living Earth Center\, 170 Good Counsel Dr. M
 ankato\, MN 56001. \n\nParking\nParking is free for the event. Please park
  across the street from the Living Earth Community Garden in the Loyola Hi
 gh School Parking Lot. \n\nAge\nAll attendees must be 21 years or older\n
 \nWe look forward to having fun and sharing common ground with you!
X-WR-RELCALID:8f465f8f6ac9c35505ed20d957a13e91
X-WR-TIMEZONE:America/Chicago
BEGIN:VTIMEZONE
TZID:America/Chicago
BEGIN:STANDARD
TZNAME:CST
DTSTART:20181104T020000
TZOFFSETFROM:-0500
TZOFFSETTO:-0600
RDATE:20191103T020000
RDATE:20201101T020000
END:STANDARD
BEGIN:DAYLIGHT
TZNAME:CDT
DTSTART:20190310T020000
TZOFFSETFROM:-0600
TZOFFSETTO:-0500
RDATE:20200308T020000
END:DAYLIGHT
END:VTIMEZONE
BEGIN:VEVENT
UID:dd1e0e8e-9aac-446d-a7d7-fe5602e425ca
DTSTAMP:20260421T171452Z
DESCRIPTION:Say Cheese and Savor the Wine! \nPlease join us for Living Eart
 h Center's 1st Annual Wine and Cheese Tasting Party! Adam Marti\, Sales an
 d Marketing Manager for Morgan Creek Winery and Jim Vonderharr\, Cheese Mo
 nger Emeritus fro the St. Peter Food Coop will recreate the tasting/pairin
 gs they presented at last Fall's Wine Stomp at Morgan Creek. Also featured
  will be artisan breads produced by Montana Rasmussen of River Rock Baking
  Company in St. Peter. \n\nPlease join us for this sit down event in the h
 istoric Big Red Barn at the Living Earth Community Garden as Adam and Jim 
 guide you through the process of selecting and pairing six different wines
  and cheeses\, each flight showcasing one of River Rocks homemade breads. 
 \n\nRegistration\nVery limited space is available and all must pre-registe
 r for the event. \n\nA base registration fee of $30 is requested\, however
 \, any additional donation will go to Living Earth Center.\n\nPlease regis
 ter online at the link below\, or a check with with your name and Wine and
  Cheese Event in the memo to Living Earth Center\, 170 Good Counsel Dr. Ma
 nkato\, MN 56001. \n\nParking\nParking is free for the event. Please park 
 across the street from the Living Earth Community Garden in the Loyola Hig
 h School Parking Lot. \n\nAge\nAll attendees must be 21 years or older\n\n
 We look forward to having fun and sharing common ground with you!
DTSTART;TZID=America/Chicago:20190517T173000
DTEND;TZID=America/Chicago:20190517T193000
LOCATION:Big Red Barn\, 170 Good Counsel Dr.
SUMMARY:Wine and Cheese Tasting Party at the Big Red Barn
END:VEVENT
END:VCALENDAR
