BEGIN:VCALENDAR
VERSION:2.0
PRODID:-//www.livingearthcentermn.org//NONSGML kigkonsult.se iCalcreator 2.
 30.10//
CALSCALE:GREGORIAN
METHOD:PUBLISH
UID:9f42068b-5111-43fc-b9e1-dc1bf47d8ff2
X-WR-CALDESC:Native bees have a wide diversity of types including fuzzy bum
 blebees\, small carpenter bees and yellow-faced bees. In Minnesota alone\,
  there are at least 350 different species if not more. Native bees are som
 e of the most efficient pollinators and support many native plant communit
 ies along with some of our favorite food crops like apples\, blueberries a
 nd cranberries. Join Scott Kudelka from the Minnesota DNR in an informativ
 e workshop about these important contributors to our local eco-system. Lig
 ht snacks will be provided. Advanced registration is appreciated to plan f
 or food. \n\nParking- Please park in the Loyola High School Parking Lot ac
 ross from the BIg Red Barn
X-WR-RELCALID:6dd9e4bfe7dad487517d670073f9dcf8
X-WR-TIMEZONE:America/Chicago
BEGIN:VTIMEZONE
TZID:America/Chicago
BEGIN:STANDARD
TZNAME:CST
DTSTART:20181104T020000
TZOFFSETFROM:-0500
TZOFFSETTO:-0600
RDATE:20191103T020000
END:STANDARD
BEGIN:DAYLIGHT
TZNAME:CDT
DTSTART:20190310T020000
TZOFFSETFROM:-0600
TZOFFSETTO:-0500
RDATE:20200308T020000
END:DAYLIGHT
END:VTIMEZONE
BEGIN:VEVENT
UID:d3e65e64-780b-4c2f-82c8-bc9dc90b1d8c
DTSTAMP:20260421T192107Z
DESCRIPTION:Native bees have a wide diversity of types including fuzzy bumb
 lebees\, small carpenter bees and yellow-faced bees. In Minnesota alone\, 
 there are at least 350 different species if not more. Native bees are some
  of the most efficient pollinators and support many native plant communiti
 es along with some of our favorite food crops like apples\, blueberries an
 d cranberries. Join Scott Kudelka from the Minnesota DNR in an informative
  workshop about these important contributors to our local eco-system. Ligh
 t snacks will be provided. Advanced registration is appreciated to plan fo
 r food. \n\nParking- Please park in the Loyola High School Parking Lot acr
 oss from the BIg Red Barn
DTSTART;TZID=America/Chicago:20190430T180000
DTEND;TZID=America/Chicago:20190430T190000
LOCATION:Big Red Barn\, 170 Good Counsel Dr.
SUMMARY:Native Bee Workshop
END:VEVENT
END:VCALENDAR
