BEGIN:VCALENDAR
VERSION:2.0
PRODID:-//www.livingearthcentermn.org//NONSGML kigkonsult.se iCalcreator 2.
 30.10//
CALSCALE:GREGORIAN
METHOD:PUBLISH
UID:8949aa40-fbc7-4a9b-a1ce-96684e46dfb9
X-WR-CALDESC:IMPORTANT: THIS EVENT HAS BEEN POSTPONED UNTIL SATURDAY\, MAY 
 4th at the same time!!! \n\nPlease join us for our community day of servic
 e in cleaning up the Barn and preparing the Garden for the season. This is
  a great volunteer activity for community members to come out for a day of
  fun and work to share common ground! There will be a potluck at 12:00- we
  ask that all volunteers bring a dish to pass. Registration is not require
 d but helpful to know how much food to prepare for!
X-WR-RELCALID:251f88ff0956f592f85334f68bd53f9d
X-WR-TIMEZONE:America/Chicago
BEGIN:VTIMEZONE
TZID:America/Chicago
BEGIN:STANDARD
TZNAME:CST
DTSTART:20181104T020000
TZOFFSETFROM:-0500
TZOFFSETTO:-0600
RDATE:20191103T020000
END:STANDARD
BEGIN:DAYLIGHT
TZNAME:CDT
DTSTART:20190310T020000
TZOFFSETFROM:-0600
TZOFFSETTO:-0500
RDATE:20200308T020000
END:DAYLIGHT
END:VTIMEZONE
BEGIN:VEVENT
UID:faabebf4-d9c6-4678-8261-dda12ac72147
DTSTAMP:20260421T192106Z
DESCRIPTION:IMPORTANT: THIS EVENT HAS BEEN POSTPONED UNTIL SATURDAY\, MAY 4
 th at the same time!!! \n\nPlease join us for our community day of service
  in cleaning up the Barn and preparing the Garden for the season. This is 
 a great volunteer activity for community members to come out for a day of 
 fun and work to share common ground! There will be a potluck at 12:00- we 
 ask that all volunteers bring a dish to pass. Registration is not required
  but helpful to know how much food to prepare for!
DTSTART;TZID=America/Chicago:20190427T100000
DTEND;TZID=America/Chicago:20190427T140000
LOCATION:Big Red Barn
SUMMARY:POSTPONED UNTIL NEXT SATURDAY\, MAY 4th: Barn and Community Garden 
 Clean Up and Potluck
END:VEVENT
END:VCALENDAR
