BEGIN:VCALENDAR
VERSION:2.0
PRODID:-//www.livingearthcentermn.org//NONSGML kigkonsult.se iCalcreator 2.
 30.10//
CALSCALE:GREGORIAN
METHOD:PUBLISH
UID:29304725-9de0-43a4-9892-b30a846d0fc5
X-WR-CALDESC:New and Returning Community Gardeners come together to receive
  information and updates for the upcoming garden season and sign garden co
 ntracts and liability forms. All gardeners must attend one training before
  gardening in the Living Earth Community Gardens. Please contact Laura Pet
 erson for questions or more details.
X-WR-RELCALID:9738be83bee291aeb0a60adce359ffef
X-WR-TIMEZONE:America/Chicago
BEGIN:VTIMEZONE
TZID:America/Chicago
BEGIN:STANDARD
TZNAME:CST
DTSTART:20181104T020000
TZOFFSETFROM:-0500
TZOFFSETTO:-0600
RDATE:20191103T020000
END:STANDARD
BEGIN:DAYLIGHT
TZNAME:CDT
DTSTART:20190310T020000
TZOFFSETFROM:-0600
TZOFFSETTO:-0500
RDATE:20200308T020000
END:DAYLIGHT
END:VTIMEZONE
BEGIN:VEVENT
UID:92df6a93-4b05-46ae-819e-a92c6b604e61
DTSTAMP:20260421T192432Z
DESCRIPTION:New and Returning Community Gardeners come together to receive 
 information and updates for the upcoming garden season and sign garden con
 tracts and liability forms. All gardeners must attend one training before 
 gardening in the Living Earth Community Gardens. Please contact Laura Pete
 rson for questions or more details.
DTSTART;TZID=America/Chicago:20190425T180000
DTEND;TZID=America/Chicago:20190425T190000
LOCATION:Big Red Barn
SUMMARY:Spring Garden Training
END:VEVENT
END:VCALENDAR
