BEGIN:VCALENDAR
VERSION:2.0
PRODID:-//www.livingearthcentermn.org//NONSGML kigkonsult.se iCalcreator 2.
 30.10//
CALSCALE:GREGORIAN
METHOD:PUBLISH
UID:306013df-5a7f-49bb-8704-0fb75ce12758
X-WR-CALDESC:Come visit Living Earth Center at MNSU's Earth Day Celebration
 ! We have a booth with information about sustainable living practices as w
 ell as seed starting kits.
X-WR-RELCALID:9d2f0fa2bd929632404a0a96f9b42332
X-WR-TIMEZONE:America/Chicago
BEGIN:VTIMEZONE
TZID:America/Chicago
BEGIN:STANDARD
TZNAME:CST
DTSTART:20181104T020000
TZOFFSETFROM:-0500
TZOFFSETTO:-0600
RDATE:20191103T020000
END:STANDARD
BEGIN:DAYLIGHT
TZNAME:CDT
DTSTART:20190310T020000
TZOFFSETFROM:-0600
TZOFFSETTO:-0500
RDATE:20200308T020000
END:DAYLIGHT
END:VTIMEZONE
BEGIN:VEVENT
UID:20f9a36c-05bb-408e-be6b-88320e2837f2
DTSTAMP:20260421T191037Z
DESCRIPTION:Come visit Living Earth Center at MNSU's Earth Day Celebration!
  We have a booth with information about sustainable living practices as we
 ll as seed starting kits.
DTSTART;TZID=America/Chicago:20190422T110000
DTEND;TZID=America/Chicago:20190422T140000
LOCATION:Minnesota State University
SUMMARY:Earth Day Celebration
END:VEVENT
END:VCALENDAR
