BEGIN:VCALENDAR
VERSION:2.0
PRODID:-//www.livingearthcentermn.org//NONSGML kigkonsult.se iCalcreator 2.
 30.10//
CALSCALE:GREGORIAN
METHOD:PUBLISH
UID:01c5d125-0d2e-4755-995b-98ac29191122
X-WR-CALDESC:What could our resilient community look like 20 years from now
 ?\n\nWe invite you to come dream\, connect\, and celebrate as we gather ou
 r community to create a more equitable\, sustainable and resilient future.
  We are interdependent and interconnected. It’s time for us to come togeth
 er! Join us in the conversation to engage and take shared responsibility f
 or our collective future. \n\nWho's putting this on?\nGreater Minnesota Re
 siliency Network is linking and connecting people\, ideas\, projects and e
 fforts across greater Minnesota that are focused on building resiliency wi
 thin our people\, places and practices. Co-hosts of the event include: Gre
 ater Mankato Resiliency Network\, Living Earth Center\, Transition Mankato
 \, Blue Earth Project and Zero Waste Mankato. \n\nThis is a FREE event! Yo
 ur RSVP helps us to prepare\, click on the link below to RSVP - we look fo
 rward to seeing you soon!
X-WR-RELCALID:89b87ce3fd04f0e46e3cf6f4b622fa97
X-WR-TIMEZONE:America/Chicago
BEGIN:VTIMEZONE
TZID:America/Chicago
BEGIN:STANDARD
TZNAME:CST
DTSTART:20181104T020000
TZOFFSETFROM:-0500
TZOFFSETTO:-0600
RDATE:20191103T020000
END:STANDARD
BEGIN:DAYLIGHT
TZNAME:CDT
DTSTART:20190310T020000
TZOFFSETFROM:-0600
TZOFFSETTO:-0500
RDATE:20200308T020000
END:DAYLIGHT
END:VTIMEZONE
BEGIN:VEVENT
UID:47b6b5a0-b51c-44ee-88fc-ef61ece01c2f
DTSTAMP:20260421T191429Z
DESCRIPTION:What could our resilient community look like 20 years from now?
 \n\nWe invite you to come dream\, connect\, and celebrate as we gather our
  community to create a more equitable\, sustainable and resilient future. 
 We are interdependent and interconnected. It’s time for us to come togethe
 r! Join us in the conversation to engage and take shared responsibility fo
 r our collective future. \n\nWho's putting this on?\nGreater Minnesota Res
 iliency Network is linking and connecting people\, ideas\, projects and ef
 forts across greater Minnesota that are focused on building resiliency wit
 hin our people\, places and practices. Co-hosts of the event include: Grea
 ter Mankato Resiliency Network\, Living Earth Center\, Transition Mankato\
 , Blue Earth Project and Zero Waste Mankato. \n\nThis is a FREE event! You
 r RSVP helps us to prepare\, click on the link below to RSVP - we look for
 ward to seeing you soon!
DTSTART;TZID=America/Chicago:20190413T100000
DTEND;TZID=America/Chicago:20190413T160000
LOCATION:Living Earth Center\, School Sisters of Notre Conference Center
SUMMARY:Shaping Our Future: Community Conversation
END:VEVENT
END:VCALENDAR
