BEGIN:VCALENDAR
VERSION:2.0
PRODID:-//www.livingearthcentermn.org//NONSGML kigkonsult.se iCalcreator 2.
 30.10//
CALSCALE:GREGORIAN
METHOD:PUBLISH
UID:2809e630-0aee-40d9-9b0d-03ab25d68a69
X-WR-CALDESC:Living Earth Center believes that\, like a healthy eco-system\
 , a healthy community needs diversity of people\, of ideas\, and strengths
  – all contributing to the community as a whole.  Executive Director\, Lau
 ra Peterson will lead a conversation about how Living Earth Center\, throu
 gh hosting the largest community garden in Mankato and providing education
 al and soul-enrichment opportunities\, is helping the local and greater Ma
 nkato community find and share connections.
X-WR-RELCALID:a04d889be09c23337544df54a0355548
X-WR-TIMEZONE:America/Chicago
BEGIN:VTIMEZONE
TZID:America/Chicago
BEGIN:STANDARD
TZNAME:CST
DTSTART:20181104T020000
TZOFFSETFROM:-0500
TZOFFSETTO:-0600
RDATE:20191103T020000
END:STANDARD
BEGIN:DAYLIGHT
TZNAME:CDT
DTSTART:20190310T020000
TZOFFSETFROM:-0600
TZOFFSETTO:-0500
RDATE:20200308T020000
END:DAYLIGHT
END:VTIMEZONE
BEGIN:VEVENT
UID:c70b63b2-579c-4e1b-806c-150676b6b4c2
DTSTAMP:20260421T191042Z
DESCRIPTION:Living Earth Center believes that\, like a healthy eco-system\,
  a healthy community needs diversity of people\, of ideas\, and strengths 
 – all contributing to the community as a whole.  Executive Director\, Laur
 a Peterson will lead a conversation about how Living Earth Center\, throug
 h hosting the largest community garden in Mankato and providing educationa
 l and soul-enrichment opportunities\, is helping the local and greater Man
 kato community find and share connections.
DTSTART;TZID=America/Chicago:20190411T143000
DTEND;TZID=America/Chicago:20190411T153000
LOCATION:Vine Faith in Action
SUMMARY:Living Earth Center at Vine- CANCELED DUE TO WEATHER
END:VEVENT
END:VCALENDAR
