BEGIN:VCALENDAR
VERSION:2.0
PRODID:-//www.livingearthcentermn.org//NONSGML kigkonsult.se iCalcreator 2.
 30.10//
CALSCALE:GREGORIAN
METHOD:PUBLISH
UID:851ac1fe-7606-4363-bbf6-a5fad06696a9
X-WR-CALDESC:Please join us at the first annual Mankato Area food/seed swap
  hosted in collaboration with Living Earth Center\, Moody Bee's Farm and U
 nder the Sun Herbs. Bring your home preserved goods\, homemade baked goods
 \, excess plant seeds or even living house plants to swap with others. Set
  up at a table and let the trading begin! This is a free event. There will
  be no money exchanging at this event as it will be completely based on th
 e barter system.\n\n\nAfter the swap\, there will be short social time the
 n a screening of the documentary Seeds: The Untold Story.\n\nSchedule\n\n1
 :00-2:00 PM Set up \n\n2:00-3:00 PM Food/ Seed Swap\n\n3:00-3:30 PM Coffee
  Break/ Reception\n\n3:30-5:00 PM Screening of Seed: The Untold Story foll
 owed by discussion\n\nPre-registration is required to participate\, by reg
 istering for the event you are agreeing to the event guidelines below. \n
 \nDISCLAIMER: \nAll participants will be required to follow the event guid
 elines and adhere to an honor code of using the highest cleanliness standa
 rds in their own kitchens and gardens to prepare their swap items. All par
 ticipants assume all liability and will be required to sign a liability wa
 iver in addition to registering each exchange officially with event organi
 zers. \n\nMore information on food swap standards can be found at this lin
 k: \nhttps://foodswapnetwork.com/disclaimer/\n\nGUIDELINES: \n\nGeneral Gu
 idelines\n\nAccepted swap items can include: preserved canned goods\, home
 made baked good\, excess plant seeds or house plants.\n\nNon accepted swap
  items: any meat products or items containing meat or poultry\, goods that
  are not wrapped or packaged\, any store bought items.\n\nAll items will b
 e swapped or bartered other items present at the event. No cash or monetar
 y exchange is allowed during the event.\n\nAll bartered or exchanged items
  must be officially registered with the event organizers\n\nAll participan
 ts will be required to bring items that are pre-packaged or fully containe
 d.\n\nAll participants must be present during the entire exchange event. A
 ll participants assume full liability and must agree to the following term
 s before registering for local area swaps:\n\nBy participating in these ev
 ents\, you are acknowledging that the food items being shared are not nece
 ssarily prepared in commercial kitchens or spaces inspected by any governm
 ent agency.\n\nBy participating in these events\, you are also acknowledgi
 ng that you will use the highest standards of safety and cleanliness in fo
 od preparation. (Food safety and food handling regulations within the Unit
 ed States can be found here.)\n\nBy participating in these events\, you as
 sume all liability\; specifically\, you agree to not hold liable food swap
  hosts\, swap venue owners/providers or other swap participants.\n\n \n\nF
 ood Guidelines\n\nWe ask all participants to follow food safety and food h
 andling regulations within the United States can be found here.)\n\nAll it
 ems must be packaged or contained.
X-WR-RELCALID:ee93884fa2ba0faac89f2b38ec814b6e
X-WR-TIMEZONE:America/Chicago
BEGIN:VTIMEZONE
TZID:America/Chicago
BEGIN:STANDARD
TZNAME:CST
DTSTART:20181104T020000
TZOFFSETFROM:-0500
TZOFFSETTO:-0600
RDATE:20191103T020000
END:STANDARD
BEGIN:DAYLIGHT
TZNAME:CDT
DTSTART:20180311T020000
TZOFFSETFROM:-0600
TZOFFSETTO:-0500
RDATE:20190310T020000
RDATE:20200308T020000
END:DAYLIGHT
END:VTIMEZONE
BEGIN:VEVENT
UID:c5b98056-c302-4a58-842a-c98ece3a7af1
DTSTAMP:20260421T224703Z
DESCRIPTION:Please join us at the first annual Mankato Area food/seed swap 
 hosted in collaboration with Living Earth Center\, Moody Bee's Farm and Un
 der the Sun Herbs. Bring your home preserved goods\, homemade baked goods\
 , excess plant seeds or even living house plants to swap with others. Set 
 up at a table and let the trading begin! This is a free event. There will 
 be no money exchanging at this event as it will be completely based on the
  barter system.\n\n\nAfter the swap\, there will be short social time then
  a screening of the documentary Seeds: The Untold Story.\n\nSchedule\n\n1:
 00-2:00 PM Set up \n\n2:00-3:00 PM Food/ Seed Swap\n\n3:00-3:30 PM Coffee 
 Break/ Reception\n\n3:30-5:00 PM Screening of Seed: The Untold Story follo
 wed by discussion\n\nPre-registration is required to participate\, by regi
 stering for the event you are agreeing to the event guidelines below. \n\n
 DISCLAIMER: \nAll participants will be required to follow the event guidel
 ines and adhere to an honor code of using the highest cleanliness standard
 s in their own kitchens and gardens to prepare their swap items. All parti
 cipants assume all liability and will be required to sign a liability waiv
 er in addition to registering each exchange officially with event organize
 rs. \n\nMore information on food swap standards can be found at this link:
  \nhttps://foodswapnetwork.com/disclaimer/\n\nGUIDELINES: \n\nGeneral Guid
 elines\n\nAccepted swap items can include: preserved canned goods\, homema
 de baked good\, excess plant seeds or house plants.\n\nNon accepted swap i
 tems: any meat products or items containing meat or poultry\, goods that a
 re not wrapped or packaged\, any store bought items.\n\nAll items will be 
 swapped or bartered other items present at the event. No cash or monetary 
 exchange is allowed during the event.\n\nAll bartered or exchanged items m
 ust be officially registered with the event organizers\n\nAll participants
  will be required to bring items that are pre-packaged or fully contained.
 \n\nAll participants must be present during the entire exchange event. All
  participants assume full liability and must agree to the following terms 
 before registering for local area swaps:\n\nBy participating in these even
 ts\, you are acknowledging that the food items being shared are not necess
 arily prepared in commercial kitchens or spaces inspected by any governmen
 t agency.\n\nBy participating in these events\, you are also acknowledging
  that you will use the highest standards of safety and cleanliness in food
  preparation. (Food safety and food handling regulations within the United
  States can be found here.)\n\nBy participating in these events\, you assu
 me all liability\; specifically\, you agree to not hold liable food swap h
 osts\, swap venue owners/providers or other swap participants.\n\n \n\nFoo
 d Guidelines\n\nWe ask all participants to follow food safety and food han
 dling regulations within the United States can be found here.)\n\nAll item
 s must be packaged or contained.
DTSTART;TZID=America/Chicago:20190217T130000
DTEND;TZID=America/Chicago:20190217T170000
LOCATION:Living Earth Center\, 170 Good Counsel Dr. Mankato MN 56001
SUMMARY:Mankato Area Seed and Food Swap
END:VEVENT
END:VCALENDAR
