BEGIN:VCALENDAR
VERSION:2.0
PRODID:-//www.livingearthcentermn.org//NONSGML kigkonsult.se iCalcreator 2.
 30.10//
CALSCALE:GREGORIAN
METHOD:PUBLISH
UID:5aec9f6a-0263-42ff-b29d-5de29250c76a
X-WR-CALDESC:Please join us for a community viewing of Seed: The Untold Sto
 ry taking place after the first Mankato Area Food and Seed Swap. \n\nAs ma
 ny irreplaceable seeds near extinction\, Seed reveals the harrowing and he
 artening story of passionate seed keepers as they wage a David and Goliath
  battle against chemical seed companies\, defending a 12\,000 year food le
 gacy.\n\nAttendance is free of charge though donations to help subsidize t
 he cost of the viewing license is greatly appreciated! Organic popcorn and
  butter will be served. \n\nPlease RSVP in advance to plan for seating.
X-WR-RELCALID:da05e9e4c148cd187d3f399a58d6d301
X-WR-TIMEZONE:America/Chicago
BEGIN:VTIMEZONE
TZID:America/Chicago
BEGIN:STANDARD
TZNAME:CST
DTSTART:20181104T020000
TZOFFSETFROM:-0500
TZOFFSETTO:-0600
RDATE:20191103T020000
END:STANDARD
BEGIN:DAYLIGHT
TZNAME:CDT
DTSTART:20180311T020000
TZOFFSETFROM:-0600
TZOFFSETTO:-0500
RDATE:20190310T020000
RDATE:20200308T020000
END:DAYLIGHT
END:VTIMEZONE
BEGIN:VEVENT
UID:9d4f196d-c4e5-4974-a4d1-67af357e0f3f
DTSTAMP:20260421T161913Z
DESCRIPTION:Please join us for a community viewing of Seed: The Untold Stor
 y taking place after the first Mankato Area Food and Seed Swap. \n\nAs man
 y irreplaceable seeds near extinction\, Seed reveals the harrowing and hea
 rtening story of passionate seed keepers as they wage a David and Goliath 
 battle against chemical seed companies\, defending a 12\,000 year food leg
 acy.\n\nAttendance is free of charge though donations to help subsidize th
 e cost of the viewing license is greatly appreciated! Organic popcorn and 
 butter will be served. \n\nPlease RSVP in advance to plan for seating.
DTSTART;TZID=America/Chicago:20190217T033000
DTEND;TZID=America/Chicago:20190217T170000
LOCATION:School Sisters of Notre Dame Conference Center
SUMMARY:Community Movie Showing- Seed: The Untold Story
END:VEVENT
END:VCALENDAR
