BEGIN:VCALENDAR
VERSION:2.0
PRODID:-//www.livingearthcentermn.org//NONSGML kigkonsult.se iCalcreator 2.
 30.10//
CALSCALE:GREGORIAN
METHOD:PUBLISH
UID:89d8045e-248d-4170-a167-a1ad6023a41e
X-WR-CALDESC:Join other Minnesotan's in supporting local organizations that
  are doing great things for their communities! We are excited to participa
 te in our first annual Give to the Max Day through Givemn.org.  What is Gi
 ve to the Max Day? It is a special day dedicated to Minnesota donors to gi
 ve thanks for local non-profits that are helping build a better Minnesota.
  We believe that Living Earth Center is one of those organizations and hop
 e you will join us in donating\, sharing posts on social media\, and telli
 ng someone new about the cool things that we do!  Living Earth Center depe
 nds on generosity of volunteers and donors who believe in our mission and 
 work. We are grateful for your participation!
X-WR-RELCALID:261fcce85f3abfabd53f49e342ef397d
X-WR-TIMEZONE:America/Chicago
BEGIN:VTIMEZONE
TZID:America/Chicago
BEGIN:STANDARD
TZNAME:CST
DTSTART:20181104T020000
TZOFFSETFROM:-0500
TZOFFSETTO:-0600
RDATE:20191103T020000
END:STANDARD
BEGIN:DAYLIGHT
TZNAME:CDT
DTSTART:20180311T020000
TZOFFSETFROM:-0600
TZOFFSETTO:-0500
RDATE:20190310T020000
RDATE:20200308T020000
END:DAYLIGHT
END:VTIMEZONE
BEGIN:VEVENT
UID:090dbcf0-3694-47c3-a878-ab8ed1551537
DTSTAMP:20260422T034749Z
DESCRIPTION:Join other Minnesotan's in supporting local organizations that 
 are doing great things for their communities! We are excited to participat
 e in our first annual Give to the Max Day through Givemn.org.  What is Giv
 e to the Max Day? It is a special day dedicated to Minnesota donors to giv
 e thanks for local non-profits that are helping build a better Minnesota. 
 We believe that Living Earth Center is one of those organizations and hope
  you will join us in donating\, sharing posts on social media\, and tellin
 g someone new about the cool things that we do!  Living Earth Center depen
 ds on generosity of volunteers and donors who believe in our mission and w
 ork. We are grateful for your participation!
DTSTART;TZID=America/Chicago:20181115T000000
DTEND;TZID=America/Chicago:20181115T235900
LOCATION:Online
SUMMARY:Give to the Max Day
END:VEVENT
END:VCALENDAR
