BEGIN:VCALENDAR
VERSION:2.0
PRODID:-//www.livingearthcentermn.org//NONSGML kigkonsult.se iCalcreator 2.
 30.10//
CALSCALE:GREGORIAN
METHOD:PUBLISH
UID:41a586c1-51a3-4937-a34a-39ae36eea429
X-WR-CALDESC:Narrated by Liam Neeson\, Love Thy Nature points to how deeply
  we’ve lost touch with nature – and takes viewers on a cinematic journey t
 hrough the beauty and intimacy of our relationship with the natural world.
 \n\nNeeson is the voice of “Sapiens” (our collective humankind) who\, in t
 he past few hundred years\, has come to believe that we have transcended n
 ature. Yet\, experts uncover how a new era of nature-connection\nmay soon 
 be dawning.\n\nThe winner of 27 awards\, Love Thy Nature soothes our urban
  angst with the dazzling spectacles of our world\, while showing that a re
 newed connection with nature is key to our personal health and the health 
 of our planet.\n\nPlease join us for an fun viewing evening followed by a 
 group discussion. \n\nAdmission is FREE however we do ask for RSVP to plan
  for popcorn and seating.\n\nOrganic buttered popcorn served.\nDonations g
 ratefully accepted.
X-WR-RELCALID:c440c796d7bbf68514c6f640df982a09
X-WR-TIMEZONE:America/Chicago
BEGIN:VTIMEZONE
TZID:America/Chicago
BEGIN:STANDARD
TZNAME:CST
DTSTART:20171105T020000
TZOFFSETFROM:-0500
TZOFFSETTO:-0600
RDATE:20181104T020000
RDATE:20191103T020000
END:STANDARD
BEGIN:DAYLIGHT
TZNAME:CDT
DTSTART:20180311T020000
TZOFFSETFROM:-0600
TZOFFSETTO:-0500
RDATE:20190310T020000
RDATE:20200308T020000
END:DAYLIGHT
END:VTIMEZONE
BEGIN:VEVENT
UID:1fc29d0f-bbe7-4a6c-96aa-104880446df5
DTSTAMP:20260422T033722Z
DESCRIPTION:Narrated by Liam Neeson\, Love Thy Nature points to how deeply 
 we’ve lost touch with nature – and takes viewers on a cinematic journey th
 rough the beauty and intimacy of our relationship with the natural world.
 \n\nNeeson is the voice of “Sapiens” (our collective humankind) who\, in t
 he past few hundred years\, has come to believe that we have transcended n
 ature. Yet\, experts uncover how a new era of nature-connection\nmay soon 
 be dawning.\n\nThe winner of 27 awards\, Love Thy Nature soothes our urban
  angst with the dazzling spectacles of our world\, while showing that a re
 newed connection with nature is key to our personal health and the health 
 of our planet.\n\nPlease join us for an fun viewing evening followed by a 
 group discussion. \n\nAdmission is FREE however we do ask for RSVP to plan
  for popcorn and seating.\n\nOrganic buttered popcorn served.\nDonations g
 ratefully accepted.
DTSTART;TZID=America/Chicago:20181101T183000
DTEND;TZID=America/Chicago:20181101T213000
LOCATION:School Sisters of Notre Dame
SUMMARY:Community Movie Night: Love Thy Nature
END:VEVENT
END:VCALENDAR
