BEGIN:VCALENDAR
VERSION:2.0
PRODID:-//www.livingearthcentermn.org//NONSGML kigkonsult.se iCalcreator 2.
 30.10//
CALSCALE:GREGORIAN
METHOD:PUBLISH
UID:ac926fa1-db71-43a5-ab74-6e06947f690a
X-WR-CALDESC:What a great harvest it has been. Alas\, the summer is coming 
 to a close. Please join us in putting the Garden to bed for the winter by 
 helping to take down garden fencing\, pulling plants\, turning over soil a
 nd cleaning the barn. All volunteers of all ages are welcome to join. This
  will be a potluck event. Please bring a dish to pass!
X-WR-RELCALID:bdcf76d459d155cf0d9d47eec1e7c06c
X-WR-TIMEZONE:America/Chicago
BEGIN:VTIMEZONE
TZID:America/Chicago
BEGIN:STANDARD
TZNAME:CST
DTSTART:20171105T020000
TZOFFSETFROM:-0500
TZOFFSETTO:-0600
RDATE:20181104T020000
RDATE:20191103T020000
END:STANDARD
BEGIN:DAYLIGHT
TZNAME:CDT
DTSTART:20180311T020000
TZOFFSETFROM:-0600
TZOFFSETTO:-0500
RDATE:20190310T020000
RDATE:20200308T020000
END:DAYLIGHT
END:VTIMEZONE
BEGIN:VEVENT
UID:2c4a8d0a-16e0-4467-92e8-25679cb06c5b
DTSTAMP:20260422T052950Z
DESCRIPTION:What a great harvest it has been. Alas\, the summer is coming t
 o a close. Please join us in putting the Garden to bed for the winter by h
 elping to take down garden fencing\, pulling plants\, turning over soil an
 d cleaning the barn. All volunteers of all ages are welcome to join. This 
 will be a potluck event. Please bring a dish to pass!
DTSTART;TZID=America/Chicago:20181020T100000
DTEND;TZID=America/Chicago:20181020T140000
LOCATION:Living Earth Garden\, 170 Good Counsel Dr. Mankato\, MN 56001
SUMMARY:Put the Garden To Bed
END:VEVENT
END:VCALENDAR
