BEGIN:VCALENDAR
VERSION:2.0
PRODID:-//www.livingearthcentermn.org//NONSGML kigkonsult.se iCalcreator 2.
 30.10//
CALSCALE:GREGORIAN
METHOD:PUBLISH
UID:5cd8b884-8f0d-439d-a321-b27ab5adaa45
X-WR-CALDESC:In collaboration with Roots\, Shoots and Boots\, a local food 
 access coalition\, Living Earth Center is excited to host a Community Conv
 ersation on Building a Farm Friendly Community. Come on out to the Big Red
  Barn to hear from local farmers about some of the cool things they are do
 ing as well as some of the barriers they face in breaking into the local m
 arket. Well supported local farmers are essential to a healthy local food 
 economy so join the discussion on what we can do to be 'farm friendly.' A 
 light supper will be provided. Please RSVP is required as space is limited
 ! Hope to see you there. 
X-WR-RELCALID:fefada9301337b6af53273ed84746d29
X-WR-TIMEZONE:America/Chicago
BEGIN:VTIMEZONE
TZID:America/Chicago
BEGIN:STANDARD
TZNAME:CST
DTSTART:20171105T020000
TZOFFSETFROM:-0500
TZOFFSETTO:-0600
RDATE:20181104T020000
RDATE:20191103T020000
END:STANDARD
BEGIN:DAYLIGHT
TZNAME:CDT
DTSTART:20180311T020000
TZOFFSETFROM:-0600
TZOFFSETTO:-0500
RDATE:20190310T020000
RDATE:20200308T020000
END:DAYLIGHT
END:VTIMEZONE
BEGIN:VEVENT
UID:0be94c99-6455-4b9f-89cd-9ff085b6088a
DTSTAMP:20260422T070908Z
DESCRIPTION:In collaboration with Roots\, Shoots and Boots\, a local food a
 ccess coalition\, Living Earth Center is excited to host a Community Conve
 rsation on Building a Farm Friendly Community. Come on out to the Big Red 
 Barn to hear from local farmers about some of the cool things they are doi
 ng as well as some of the barriers they face in breaking into the local ma
 rket. Well supported local farmers are essential to a healthy local food e
 conomy so join the discussion on what we can do to be 'farm friendly.' A l
 ight supper will be provided. Please RSVP is required as space is limited!
  Hope to see you there. 
DTSTART;TZID=America/Chicago:20180924T180000
DTEND;TZID=America/Chicago:20180924T210000
LOCATION:Living Earth Garden Big Red Barn\, 170 Good Counsel Dr.
SUMMARY:Community Conversation: Building a Farm Friendly Community
END:VEVENT
END:VCALENDAR
