BEGIN:VCALENDAR
VERSION:2.0
PRODID:-//www.livingearthcentermn.org//NONSGML kigkonsult.se iCalcreator 2.
 30.10//
CALSCALE:GREGORIAN
METHOD:PUBLISH
UID:f82a3856-1d40-417f-8637-7455964ab80f
X-WR-CALDESC:Please join us on Saturday\, August 25th from 11:00- 2:00 PM i
 n honoring the Sisters and others who have nurtured the soil and soul alik
 e and celebrate our future success at the Living Earth Center.\n\nWe invit
 e all who are interested to join us for a picnic style meal catered by Fri
 esen's Bakery along with story telling\, music\,  yard games\, and local f
 ellowship celebrating the diversity that makes up our Community Garden and
  our local community resilience. Bring a blanket or chair if you like! For
 mal program begins at 11:30 AM followed by food and games. \n\nAdmission i
 s FREE\, however we do ask that you RSVP so that we can plan for food. \n
 \nWe gratefully accept any donation that goes towards strengthening our ro
 ots. \n
X-WR-RELCALID:46b02f3c3761e5ffd2ccbf5d4e406f80
X-WR-TIMEZONE:America/Chicago
BEGIN:VTIMEZONE
TZID:America/Chicago
BEGIN:STANDARD
TZNAME:CST
DTSTART:20171105T020000
TZOFFSETFROM:-0500
TZOFFSETTO:-0600
RDATE:20181104T020000
RDATE:20191103T020000
END:STANDARD
BEGIN:DAYLIGHT
TZNAME:CDT
DTSTART:20180311T020000
TZOFFSETFROM:-0600
TZOFFSETTO:-0500
RDATE:20190310T020000
END:DAYLIGHT
END:VTIMEZONE
BEGIN:VEVENT
UID:9b55ebfe-2cfd-4201-b9ed-9eb83f434d66
DTSTAMP:20260422T090931Z
DESCRIPTION:Please join us on Saturday\, August 25th from 11:00- 2:00 PM in
  honoring the Sisters and others who have nurtured the soil and soul alike
  and celebrate our future success at the Living Earth Center.\n\nWe invite
  all who are interested to join us for a picnic style meal catered by Frie
 sen's Bakery along with story telling\, music\,  yard games\, and local fe
 llowship celebrating the diversity that makes up our Community Garden and 
 our local community resilience. Bring a blanket or chair if you like! Form
 al program begins at 11:30 AM followed by food and games. \n\nAdmission is
  FREE\, however we do ask that you RSVP so that we can plan for food. \n\n
 We gratefully accept any donation that goes towards strengthening our root
 s. \n
DTSTART;TZID=America/Chicago:20180825T110000
DTEND;TZID=America/Chicago:20180825T140000
LOCATION:School Sisters of Notre Dame\, Front Lawn\, 170 Good Counsel Dr.
SUMMARY:1st Annual Living Earth Picnic
END:VEVENT
END:VCALENDAR
