BEGIN:VCALENDAR
VERSION:2.0
PRODID:-//www.livingearthcentermn.org//NONSGML kigkonsult.se iCalcreator 2.
 30.10//
CALSCALE:GREGORIAN
METHOD:PUBLISH
UID:578c93a5-8b52-461e-be26-642f5aa298d4
X-WR-CALDESC:Sometimes called 'mushroom tea\,' kombucha has been associated
  with a long list of health benefits.  It's a probiotic drink with helpful
  bacteria that support digestion and the immune system. It also contains e
 nzymes\, amino acids\, antioxidants and polyphenols.\nLearn the steps to m
 ake your own kombucha at home. Kombucha brewers Amy Hunt and Robyn Geldner
  will walk you through creating this healthy\, delicious beverage.\n\nEach
  participant will take home their own mason jar full of kombucha and the k
 nowledge to continue to brew much more!\n\nAdvanced registration is requir
 ed to plan for supplies. The cost for the class is $20 plus fees and inclu
 des all instruction and a mason jar of homemade kombucha tea. \nParking\nP
 lease park in the main parking lot of the School Sisters of Notre Dame Goo
 d Counsel Campus and proceed to the main entrance to check in with the fro
 nt desk. 
X-WR-RELCALID:e3163b9832c7d84557a3067e2a1dd0e1
X-WR-TIMEZONE:America/Chicago
BEGIN:VTIMEZONE
TZID:America/Chicago
BEGIN:STANDARD
TZNAME:CST
DTSTART:20171105T020000
TZOFFSETFROM:-0500
TZOFFSETTO:-0600
RDATE:20181104T020000
RDATE:20191103T020000
END:STANDARD
BEGIN:DAYLIGHT
TZNAME:CDT
DTSTART:20180311T020000
TZOFFSETFROM:-0600
TZOFFSETTO:-0500
RDATE:20190310T020000
END:DAYLIGHT
END:VTIMEZONE
BEGIN:VEVENT
UID:d94fd6e9-f06a-41fa-92a4-e458e4bdf79c
DTSTAMP:20260422T085903Z
DESCRIPTION:Sometimes called 'mushroom tea\,' kombucha has been associated 
 with a long list of health benefits.  It's a probiotic drink with helpful 
 bacteria that support digestion and the immune system. It also contains en
 zymes\, amino acids\, antioxidants and polyphenols.\nLearn the steps to ma
 ke your own kombucha at home. Kombucha brewers Amy Hunt and Robyn Geldner 
 will walk you through creating this healthy\, delicious beverage.\n\nEach 
 participant will take home their own mason jar full of kombucha and the kn
 owledge to continue to brew much more!\n\nAdvanced registration is require
 d to plan for supplies. The cost for the class is $20 plus fees and includ
 es all instruction and a mason jar of homemade kombucha tea. \nParking\nPl
 ease park in the main parking lot of the School Sisters of Notre Dame Good
  Counsel Campus and proceed to the main entrance to check in with the fron
 t desk. 
DTSTART;TZID=America/Chicago:20180818T130000
DTEND;TZID=America/Chicago:20180818T150000
LOCATION:Theresa Hall\, School Sisters of Notre Dame | 170 Good Counsel Dri
 ve | Mankato\, MN 56001
SUMMARY:The Art of Fermentation and Kombucha Making
END:VEVENT
END:VCALENDAR
