BEGIN:VCALENDAR
VERSION:2.0
PRODID:-//www.livingearthcentermn.org//NONSGML kigkonsult.se iCalcreator 2.
 30.10//
CALSCALE:GREGORIAN
METHOD:PUBLISH
UID:cd3aed3c-23f9-4f27-a022-b3959bac2565
X-WR-CALDESC:Honey bees are beneficial to pollinating our crops and gardens
 . They also make honey! Here we will go over the fundamentals of beekeepin
 g. \n\nPlease join expert Bee Keeper\, Kaylee Carnahan from Moody Bees Hon
 ey in Madelia\, MN. She will cover basics like setting up a hive\, equipme
 nt\, who makes up a colony\, seasonal jobs\, how to harvest honey\, diseas
 es\, and pests. We will also go over subtle details like location (hive pl
 acement)\, flora cycles\, water needs and hive mindfulness.\n\nEvent regis
 tration is $10.
X-WR-RELCALID:6d41533b3ae38c0686724c5c019f01ca
X-WR-TIMEZONE:America/Chicago
BEGIN:VTIMEZONE
TZID:America/Chicago
BEGIN:STANDARD
TZNAME:CST
DTSTART:20171105T020000
TZOFFSETFROM:-0500
TZOFFSETTO:-0600
RDATE:20181104T020000
RDATE:20191103T020000
END:STANDARD
BEGIN:DAYLIGHT
TZNAME:CDT
DTSTART:20180311T020000
TZOFFSETFROM:-0600
TZOFFSETTO:-0500
RDATE:20190310T020000
END:DAYLIGHT
END:VTIMEZONE
BEGIN:VEVENT
UID:186cdacf-144a-4ddb-9a04-7dc881876644
DTSTAMP:20260422T105054Z
DESCRIPTION:Honey bees are beneficial to pollinating our crops and gardens.
  They also make honey! Here we will go over the fundamentals of beekeeping
 . \n\nPlease join expert Bee Keeper\, Kaylee Carnahan from Moody Bees Hone
 y in Madelia\, MN. She will cover basics like setting up a hive\, equipmen
 t\, who makes up a colony\, seasonal jobs\, how to harvest honey\, disease
 s\, and pests. We will also go over subtle details like location (hive pla
 cement)\, flora cycles\, water needs and hive mindfulness.\n\nEvent regist
 ration is $10.
DTSTART;TZID=America/Chicago:20180722T130000
DTEND;TZID=America/Chicago:20180722T143000
LOCATION:Big Red Barn at the Living Earth Garden\, 170 Good Counsel Dr. Man
 kato MN 56001
SUMMARY:Beekeeping Basics
END:VEVENT
END:VCALENDAR
